BEGIN:VCALENDAR
VERSION:2.0
PRODID:-//ChamberMaster//Event Calendar 2.0//EN
METHOD:PUBLISH
X-PUBLISHED-TTL:P3D
REFRESH-INTERVAL:P3D
CALSCALE:GREGORIAN
BEGIN:VEVENT
DTSTART:20190609T160000Z
DTEND:20190609T190000Z
X-MICROSOFT-CDO-ALLDAYEVENT:FALSE
SUMMARY:Gloucester Grow Fest
DESCRIPTION:The Gloucester Grow Fest is a fun\, inclusive\, FREE community event hosted by Backyard Growers at Burnham's Field in downtown Gloucester. Join us for hands-on\, family-friendly activities to raise awareness about healthy eating\, green living\, and personal wellness\, while celebrating the arrival of warm weather and the beginning of the growing season on Cape Ann!\n\n\n\n \n\n\n\nActivities and treats for the whole family include live music\, yummy food\, community yoga\, art projects\, games\, GOATS!\, gardening how-to's\, dancing\, sunshine and good vibes! Click here for more information.
X-ALT-DESC;FMTTYPE=text/html:<div>\n<div>\n<div>The Gloucester Grow Fest is a fun\, inclusive\, FREE community event hosted by Backyard Growers at Burnham&rsquo\;s Field in downtown Gloucester. Join us for hands-on\, family-friendly activities to raise awareness about healthy eating\, green living\, and personal wellness\, while celebrating the arrival of warm weather and the beginning of the growing season on Cape Ann!</div>\n</div>\n\n<div>\n<div>&nbsp\;</div>\n</div>\n\n<div>\n<div>Activities and treats for the whole family include live music\, yummy food\, community yoga\, art projects\, games\, GOATS!\, gardening how-to&#39\;s\, dancing\, sunshine and good vibes!&nbsp\;<a href="http://www.backyardgrowers.org/news/join-us-at-the-second-annual-gloucester-growfest" rel="nofollow noopener noreferrer" style="color: var(--eds-control\,#3659e3)\; text-decoration-line: none\; cursor: pointer\; background-color: transparent\; padding-top: 0px\;" target="_blank">Click here for more information.</a></div>\n</div>\n</div>\n
LOCATION:Burnham's Field 75 Pleasant Street Gloucester\, MA 01930
UID:e.2981.14773
SEQUENCE:3
DTSTAMP:20260423T054354Z
URL:https://business.capeannchamber.com/events/details/gloucester-grow-fest-14773
END:VEVENT

END:VCALENDAR
