BEGIN:VCALENDAR
VERSION:2.0
PRODID:-//ChamberMaster//Event Calendar 2.0//EN
METHOD:PUBLISH
X-PUBLISHED-TTL:P3D
REFRESH-INTERVAL:P3D
CALSCALE:GREGORIAN
BEGIN:VEVENT
DTSTART:20221106T220000Z
DTEND:20221107T000000Z
X-MICROSOFT-CDO-ALLDAYEVENT:FALSE
SUMMARY:Global Journey Series: Jussi Reijonen
DESCRIPTION:Three Seconds | Kolme Toista--A Transcultural Journey\n\nWorldwide Album Release Concert\n\nThe Finnish oud player and guitarist\, along with eight other incredibly talented musicians from around the globe\, take listeners on a spirited transcultural journey. Reijonen will be showcasing pieces from his new recording Three Seconds/Kolme Toista\, an epic genre-hopping album featuring the same ensemble as the concert\, with all-star musicians from Iraq/Jordan\, Palestine\, Turkey\, Japan\, the U.S. and Finland.
X-ALT-DESC;FMTTYPE=text/html:Three Seconds | Kolme Toista--A Transcultural Journey<br />\nWorldwide Album Release Concert<br />\nThe Finnish oud player and guitarist\, along with eight&nbsp\;other incredibly talented musicians&nbsp\;from around the globe\, take listeners on a spirited transcultural journey. Reijonen will be showcasing pieces from his new recording&nbsp\;Three Seconds/Kolme Toista\, an epic genre-hopping album featuring the same ensemble as the concert\, with all-star musicians from Iraq/Jordan\, Palestine\, Turkey\, Japan\, the U.S. and Finland.
LOCATION:Shalin Liu Performance Center 37 Main St. Rockport\, MA 01966
UID:e.2981.23064
SEQUENCE:3
DTSTAMP:20260424T110654Z
URL:https://business.capeannchamber.com/events/details/global-journey-series-jussi-reijonen-23064
END:VEVENT

END:VCALENDAR
