BEGIN:VCALENDAR
VERSION:2.0
PRODID:-//ChamberMaster//Event Calendar 2.0//EN
METHOD:PUBLISH
X-PUBLISHED-TTL:P3D
REFRESH-INTERVAL:P3D
CALSCALE:GREGORIAN
BEGIN:VEVENT
DTSTART:20250630T220000Z
DTEND:20250701T020000Z
X-MICROSOFT-CDO-ALLDAYEVENT:FALSE
SUMMARY:Glitter\, Glam\, & Local Legends
DESCRIPTION:Ipswich Ale: Glitter\, Glam\, & Local Legends   Our First Ever Drag Show!\n\nJoin us at Ipswich Ale Brewery for a night of fabulous entertainment! Witness the magic of our first-ever drag show featuring local legends in the community   Dr. Viola Voil \, Idaho Voil \, Koda Mehalba\, & more! $5 of every ticket sold will go to Cape Ann Pride Coalition. Get ready for a night filled with glitter\, glam\, and unforgettable performances. Don't miss out on this historic event - grab your friends and celebrate with us!
X-ALT-DESC;FMTTYPE=text/html:<p><strong>Ipswich Ale: Glitter\, Glam\, &amp\; Local Legends &mdash\; Our First Ever Drag Show!</strong></p>\n\n<p>Join us at&nbsp\;<strong>Ipswich Ale Brewery</strong>&nbsp\;for a night of fabulous entertainment! Witness the magic of our first-ever drag show featuring&nbsp\;<strong>local legends</strong>&nbsp\;in the community &mdash\; Dr. Viola Voil&agrave\;\, Idaho Voil&agrave\;\, Koda Mehalba\, &amp\; more! $5 of every ticket sold will go to&nbsp\;<strong>Cape Ann Pride Coalition</strong>. Get ready for a night filled with&nbsp\;<strong>glitter</strong>\,&nbsp\;<strong>glam</strong>\, and unforgettable performances. Don&#39\;t miss out on this historic event - grab your friends and celebrate with us!</p>\n
LOCATION:2 Soffron Lane\, Ipswich\, MA
UID:e.2981.37302
SEQUENCE:3
DTSTAMP:20260424T211119Z
URL:https://business.capeannchamber.com/events/details/glitter-glam-local-legends-37302
END:VEVENT

END:VCALENDAR
