BEGIN:VCALENDAR
VERSION:2.0
PRODID:-//ChamberMaster//Event Calendar 2.0//EN
METHOD:PUBLISH
X-PUBLISHED-TTL:P3D
REFRESH-INTERVAL:P3D
CALSCALE:GREGORIAN
BEGIN:VEVENT
DTSTART:20221003T160000Z
DTEND:20221003T220000Z
X-MICROSOFT-CDO-ALLDAYEVENT:FALSE
SUMMARY:Glen T. MacLeod Cape Ann YMCA Golf Tournament
DESCRIPTION:Join us for the 1st Annual Glen T. MacLeod Cape Ann YMCA Golf Tournament at Bass Rocks Golf Club on Monday\, October 3\, 2022! The tournament benefits programs supporting children and familes through educational and summer programs.
X-ALT-DESC;FMTTYPE=text/html:Join us for the 1st Annual Glen T. MacLeod Cape Ann YMCA Golf Tournament at Bass Rocks Golf Club on Monday\, October 3\, 2022! The tournament benefits programs supporting children and familes through educational and summer programs.<br />\n&nbsp\;
LOCATION:Bass Rocks Golf Club 34 Beach Road Gloucester\, MA
UID:e.2981.21820
SEQUENCE:3
DTSTAMP:20260424T140910Z
URL:https://business.capeannchamber.com/events/details/glen-t-macleod-cape-ann-ymca-golf-tournament-21820
END:VEVENT

END:VCALENDAR
