BEGIN:VCALENDAR
VERSION:2.0
PRODID:-//ChamberMaster//Event Calendar 2.0//EN
METHOD:PUBLISH
X-PUBLISHED-TTL:P3D
REFRESH-INTERVAL:P3D
CALSCALE:GREGORIAN
BEGIN:VEVENT
DTSTART:20221109T190000Z
DTEND:20221109T193000Z
X-MICROSOFT-CDO-ALLDAYEVENT:FALSE
SUMMARY:Get to Know NeedyMeds' Diagnosis Information Pages Webinar
DESCRIPTION:If you need reliable information\, reputable resources and healthcare savings options for specific diagnoses\, NeedyMeds' Diagnosis Information Pages are what you have been looking. Take 15 minutes out of your day to learn all about them   especially if you're newly diagnosed. Space is limited so don't wait to register.
X-ALT-DESC;FMTTYPE=text/html:<span style="background-color:rgb(255\, 255\, 255)\; color:rgb(51\, 51\, 51)\; font-family:sf pro text\,-apple-system\,system-ui\,roboto\,segoe ui\,helvetica\,arial\,sans-serif\,apple color emoji\,segoe ui emoji\,segoe ui symbol\; font-size:14px">If you need reliable information\, reputable resources and healthcare savings options for specific diagnoses\, NeedyMeds&#39\; Diagnosis Information Pages are what you have been looking. Take 15 minutes out of your day to learn all about them &ndash\; especially if you&rsquo\;re newly diagnosed. Space is limited so don&rsquo\;t wait to <a href="https://register.gotowebinar.com/rt/5671595855396570384">register</a>. </span>
LOCATION:Free webinar!
UID:e.2981.21745
SEQUENCE:3
DTSTAMP:20260424T110636Z
URL:https://business.capeannchamber.com/events/details/get-to-know-needymeds-diagnosis-information-pages-webinar-21745
END:VEVENT

END:VCALENDAR
