BEGIN:VCALENDAR
VERSION:2.0
PRODID:-//ChamberMaster//Event Calendar 2.0//EN
METHOD:PUBLISH
X-PUBLISHED-TTL:P3D
REFRESH-INTERVAL:P3D
CALSCALE:GREGORIAN
BEGIN:VEVENT
DTSTART:20250404T000000Z
DTEND:20250404T020000Z
X-MICROSOFT-CDO-ALLDAYEVENT:FALSE
SUMMARY:Genticorum
DESCRIPTION:Renowned for their boundless energy\, exceptional musicianship and captivating stage presence\, Genticorum has thrilled audiences for years with their award-winning Celtic-inspired folk music.
X-ALT-DESC;FMTTYPE=text/html:<p><span style="background-color:rgb(250\, 250\, 250)\; color:rgb(0\, 0\, 0)\; font-family:open sans\,helvetica neue\,helvetica\,arial\,sans-serif\; font-size:18px">Renowned for their boundless energy\, exceptional musicianship and captivating stage presence\, Genticorum has thrilled audiences for years with their award-winning Celtic-inspired folk music.</span></p>\n
LOCATION:37 Main St\, Rockport\, MA 01966
UID:e.2981.35174
SEQUENCE:3
DTSTAMP:20260424T140119Z
URL:https://business.capeannchamber.com/events/details/genticorum-35174
END:VEVENT

END:VCALENDAR
