BEGIN:VCALENDAR
VERSION:2.0
PRODID:-//ChamberMaster//Event Calendar 2.0//EN
METHOD:PUBLISH
X-PUBLISHED-TTL:P3D
REFRESH-INTERVAL:P3D
CALSCALE:GREGORIAN
BEGIN:VEVENT
DTSTART:20250705T140000Z
DTEND:20250705T200000Z
X-MICROSOFT-CDO-ALLDAYEVENT:FALSE
SUMMARY:Generous Gardners 13th Annual Gloucester Garden Tour
DESCRIPTION:ENJOY A FABULOUS GARDEN TOUR!\n\n \n\nThe lovely seaside village of Magnolia has been chosen for the 2025 Generous Gardeners Garden Tour. Once home to grand summer hotels\, this storied enclave is now filled with beautiful homes\, stunning waterfront scenery\, and flourishing gardens. Each garden on the tour offers a different and inviting array of shrubs and blossoms\, artfully arranged and carefully tended by their owners. Stroll along Shore Road viewing over a dozen private gardens\, many with glorious ocean views. This easygoing 1.6 mile tour showcases a variety of cottage gardens\, rose gardens\, estate gardens and also includes an amazing Olmsted garden. We suggest purchasing tickets in advance on our website at: www.generousgardeners.org. Tickets will also be available at the start of the tour at the Magnolia Library and Community Center\, 1 Lexington Avenue\, Gloucester. Parking is available on streets throughout the tour area and shuttle buses will be available for assistance.\n\n\n\nRain or shine. No pets. Photography welcome.
X-ALT-DESC;FMTTYPE=text/html:<span style="color:#99CC00\;"><span style="font-family:arial\,sans-serif\;"><span style="font-size:13.5pt\;">ENJOY A FABULOUS GARDEN TOUR!</span></span></span><br />\n&nbsp\;<br />\n<span style="color:#555555\;"><span style="font-family:arial\,sans-serif\;">The lovely seaside village of Magnolia has been chosen for the 2025 Generous Gardeners Garden Tour. Once home to grand summer hotels\, this storied enclave is now filled with beautiful homes\, stunning waterfront scenery\, and flourishing gardens. Each garden on the tour offers a different and inviting array of shrubs and blossoms\, artfully arranged and carefully tended by their owners. Stroll along Shore Road viewing over a dozen private gardens\, many with glorious ocean views. This easygoing 1.6 mile tour showcases a variety of cottage gardens\, rose gardens\, estate gardens and also includes an amazing Olmsted garden. We suggest purchasing tickets in advance on our website at:</span></span><u><span style="color:#0068A5\;"><span style="font-family:arial\,sans-serif\;"> <a data-auth="NotApplicable" href="http://em.networkforgood.com/ls/click?upn=u001.4BFHVPOJi3LYUS0Wgq849faTI5dXTmUHwGCKvJLqDyNwndCgztT8udry1e-2FWuiy-2Bl73z_zWdy1GXaq-2Flnsu-2BAlBymOXUrSTIxDa6ASjd5itL8F4G0Otnku-2B-2BESKYxJKORv9jEjoLhkZUAFFVmHz5QbdknNx-2FOjXeCXTtnRXcpMo6dbVs-2FSFOA1Z7aHGnTvEmlJUtut6Tzn8tYa7csO-2FInNXaPximUwt7zdebgmpkbdhStptcu1eFkC4GoyDH4UyOBJuvockCeXio0Jps0cW9TbKCPww-3D-3D"><span style="color:#0068A5\;">www.generousgardeners.org</span></a></span></span></u><span style="color:#555555\;"><span style="font-family:arial\,sans-serif\;">. Tickets will also be available at the start of the tour at the Magnolia Library and Community Center\, 1 Lexington Avenue\, Gloucester. Parking is available on streets throughout the tour area and shuttle buses will be available for assistance.</span></span><br />\n<br />\n<span style="color:#555555\;"><span style="font-family:arial\,sans-serif\;"><span style="font-size:12.0pt\;">Rain or shine. No pets. Photography welcome.&nbsp\;</span></span></span>
LOCATION:
UID:e.2981.35047
SEQUENCE:3
DTSTAMP:20260424T223309Z
URL:https://business.capeannchamber.com/events/details/generous-gardners-13th-annual-gloucester-garden-tour-35047
END:VEVENT

END:VCALENDAR
