BEGIN:VCALENDAR
VERSION:2.0
PRODID:-//ChamberMaster//Event Calendar 2.0//EN
METHOD:PUBLISH
X-PUBLISHED-TTL:P3D
REFRESH-INTERVAL:P3D
CALSCALE:GREGORIAN
BEGIN:VEVENT
DTSTART:20240914T150000Z
DTEND:20240914T220000Z
X-MICROSOFT-CDO-ALLDAYEVENT:FALSE
SUMMARY:Gather on the Green 2024
DESCRIPTION:The weekend of September 13 to 15 will be brimming with art and music at the Fourth Annual Gather on the Green Arts and Music Festival.\n\nThis year's community event will feature paintings\, jewelry\, fused glass\, and photographs from more than 35 local artists and seven groups of musicians\, plus a variety of foods and beer.
X-ALT-DESC;FMTTYPE=text/html:<p style="box-sizing: border-box\; margin: 0px auto 26px\; overflow-wrap: break-word\; color: rgb(34\, 34\, 34)\; font-family: Montserrat\; font-size: 17px\; line-height: 1.7 !important\;">The weekend of September 13 to 15 will be brimming with art and music at the Fourth Annual Gather on the Green Arts and Music Festival.</p>\n\n<p style="box-sizing: border-box\; margin: 0px auto 26px\; overflow-wrap: break-word\; color: rgb(34\, 34\, 34)\; font-family: Montserrat\; font-size: 17px\; line-height: 1.7 !important\;">This year&rsquo\;s community event will feature paintings\, jewelry\, fused glass\, and photographs from more than 35 local artists and seven groups of musicians\, plus a variety of foods and beer.</p>\n
LOCATION:It will be held on Meetinghouse Green on the lawn of First Church and the Meetinghouse across the street.
UID:e.2981.33075
SEQUENCE:3
DTSTAMP:20260421T001523Z
URL:https://business.capeannchamber.com/events/details/gather-on-the-green-2024-33075
END:VEVENT

END:VCALENDAR
