BEGIN:VCALENDAR
VERSION:2.0
PRODID:-//ChamberMaster//Event Calendar 2.0//EN
METHOD:PUBLISH
X-PUBLISHED-TTL:P3D
REFRESH-INTERVAL:P3D
CALSCALE:GREGORIAN
BEGIN:VEVENT
DTSTART:20250419T233000Z
DTEND:20250420T033000Z
X-MICROSOFT-CDO-ALLDAYEVENT:FALSE
SUMMARY:Gang Of Four - The Long Goodbye Tour
DESCRIPTION:4/19/25\n\nReserved Seating $45\n\nStanding $35\n\n7:30pm Doors\, 8:00pm Show\n\n21+\, Positive I.D. Required\n\n\n\n"2025 will be the 45th anniversary of the release of 'Entertainment!' in the US\, and will be our final year as a band. It's been wonderful\, but all things must end. We want to go out with a bang and celebrate with our fans and friends. So\, on what will be our last US tour\, we'll play two sets at each show: 'Entertainment!" from start to finish in the first\, and the best of the rest in the second. Come and join in\, it'll be a blast!"
X-ALT-DESC;FMTTYPE=text/html:<span style="color:rgb(64\, 64\, 65)\; font-family:open sans\,sans-serif\; font-size:14px">4/19/25</span><br />\n<span style="color:rgb(64\, 64\, 65)\; font-family:open sans\,sans-serif\; font-size:12pt"><strong>Reserved Seating $45</strong></span><br />\n<span style="color:rgb(64\, 64\, 65)\; font-family:open sans\,sans-serif\; font-size:12pt"><strong>Standing $35</strong></span><br />\n<span style="color:rgb(64\, 64\, 65)\; font-family:open sans\,sans-serif\; font-size:14px">7:30pm Doors\, 8:00pm Show</span><br />\n<span style="color:rgb(64\, 64\, 65)\; font-family:open sans\,sans-serif\; font-size:14px">21+\, Positive I.D. Required</span><br />\n<br />\n<span style="color:rgb(64\, 64\, 65)\; font-family:open sans\,sans-serif\; font-size:14px">&ldquo\;2025 will be the 45th anniversary of the release of &lsquo\;Entertainment!&lsquo\; in the US\, and will be our final year as a band. It&rsquo\;s been wonderful\, but all things must end. We want to go out with a bang and celebrate with our fans and friends. So\, on what will be our last US tour\, we&rsquo\;ll play two sets at each show: &lsquo\;Entertainment!&rdquo\; from start to finish in the first\, and the best of the rest in the second. Come and join in\, it&rsquo\;ll be a blast!&quot\;</span>
LOCATION:The Cut 177 Main Street Gloucester\, MA 01930
UID:e.2981.34102
SEQUENCE:3
DTSTAMP:20260424T140550Z
URL:https://business.capeannchamber.com/events/details/gang-of-four-the-long-goodbye-tour-34102
END:VEVENT

END:VCALENDAR
