BEGIN:VCALENDAR
VERSION:2.0
PRODID:-//ChamberMaster//Event Calendar 2.0//EN
METHOD:PUBLISH
X-PUBLISHED-TTL:P3D
REFRESH-INTERVAL:P3D
CALSCALE:GREGORIAN
BEGIN:VEVENT
DTSTART:20231124T220000Z
DTEND:20231125T030000Z
X-MICROSOFT-CDO-ALLDAYEVENT:FALSE
SUMMARY:Game Night: Tabletop Gaming in the Great Hall at Hammond Castle Museum
DESCRIPTION:Join us for a night of tabletop gaming in the Great Hall!\n\n\n\nWe will have a wide variety of great games for players\, available on a first come\, first serve basis\, including but not limited to: Dixit\, Risk\, Fluxx\, Munchkin\, Chess (Lord of the Rings Edition)\, We Didn't Playtest This At All\, Apples to Apples\, Settlers of Catan and The Oregon Trail Card Game.\n\n\n\nAnd\, we'll have the recently debuted "Hammond Naval Warfare\," game of naval strategy designed by our founder\, inventor John Hays Hammond Jr! You can be one of the first to ever play it! All games are on a first come/first serve basis. Light snacks will be available for purchase. \n\n\n\nDoors open at 5pm and gaming goes until 10pm. Bring your friends and stop by for an hour or stay the whole time!  Parking is free. Admission is $15 per guest.\n\nTickets at:https://bit.ly/HCMGameNight
X-ALT-DESC;FMTTYPE=text/html:<div><strong>Join us for a night of tabletop gaming in the Great Hall!</strong><br />\n<br />\nWe will have a wide variety of great games for players\, available on a first come\, first serve basis\, including but not limited to: Dixit\, Risk\, Fluxx\, Munchkin\, Chess (Lord of the Rings Edition)\, We Didn&#39\;t Playtest This At All\, Apples to Apples\, Settlers of Catan and The Oregon Trail Card Game.<br />\n<br />\n<span style="background-color:rgb(255\, 255\, 255)\; font-family:open sans\,sans-serif\; font-size:13px">And\, we&#39\;ll have the recently debuted &quot\;Hammond Naval Warfare\,&quot\; game of naval strategy designed by our founder\, inventor John Hays Hammond Jr! You can be one of the first to ever play it! All games are on a first come/first serve basis. Light snacks will be available for purchase.&nbsp\;</span><br />\n<br />\nDoors open at 5pm and gaming goes until 10pm. Bring your friends and stop by for an hour or stay the whole time!&nbsp\; Parking is free. Admission is $15 per guest.</div>\n\n<div>Tickets at:<a href="bit.ly/HCMGameNight">https://bit.ly/HCMGameNight</a></div>\n
LOCATION:Hammond Castle Museum 80 Hesperus Avenue Gloucester\, MA
UID:e.2981.26950
SEQUENCE:3
DTSTAMP:20260421T203033Z
URL:https://business.capeannchamber.com/events/details/game-night-tabletop-gaming-in-the-great-hall-at-hammond-castle-museum-26950
END:VEVENT

END:VCALENDAR
