BEGIN:VCALENDAR
VERSION:2.0
PRODID:-//ChamberMaster//Event Calendar 2.0//EN
METHOD:PUBLISH
X-PUBLISHED-TTL:P3D
REFRESH-INTERVAL:P3D
CALSCALE:GREGORIAN
BEGIN:VEVENT
DTSTART:20221125T220000Z
DTEND:20221126T020000Z
X-MICROSOFT-CDO-ALLDAYEVENT:FALSE
SUMMARY:Game Night: Tabletop Gaming
DESCRIPTION:For the first time ever\, we are releasing "Hammond Naval Warfare\," a game of naval strategy designed by our founder\, inventor John Hays Hammond Jr. And\, not only can you play the game\, but all attenees will be entered in a raffle to win their own game.\n\nWe will also have a wide variety of other great games for players\, available on a first come\, first serve basis\, including but not limited to: Dixit\, Risk\, Fluxx\, Munchkin\, Chess (Lord of the Rings Edition)\, We Didn't Playtest This At All\, Apples to Apples\, Settlers of Catan and The Oregon Trail Card Game.\n\nDoors open at 5pm and gaming goes until 10pm. Bring your friends and stop by for an hour or stay the whole time!  Parking is free. Admission is $15 per guest.\n\nTickets at: https://bit.ly/3TCI9yh
X-ALT-DESC;FMTTYPE=text/html:<div>For the first time ever\, we are releasing &quot\;Hammond Naval Warfare\,&quot\; a game of naval strategy designed by our founder\, inventor John Hays Hammond Jr. And\, not only can you play the game\, but all attenees will be entered in a raffle to win their own game.<br />\nWe will also have a wide variety of other great games for players\, available on a first come\, first serve basis\, including but not limited to: Dixit\, Risk\, Fluxx\, Munchkin\, Chess (Lord of the Rings Edition)\, We Didn&#39\;t Playtest This At All\, Apples to Apples\, Settlers of Catan and The Oregon Trail Card Game.<br />\nDoors open at 5pm and gaming goes until 10pm. Bring your friends and stop by for an hour or stay the whole time!&nbsp\; Parking is free. Admission is $15 per guest.</div>\n\n<div>Tickets at:&nbsp\;<a href="https://bit.ly/3TCI9yh" style="color: rgb(17\, 85\, 204)\;" target="_blank">https://bit.ly/3TCI9yh</a></div>\n
LOCATION:Hammond Castle Museum 80 Hesperus Avenue Gloucester\, MA
UID:e.2981.23187
SEQUENCE:3
DTSTAMP:20260424T105004Z
URL:https://business.capeannchamber.com/events/details/game-night-tabletop-gaming-23187
END:VEVENT

END:VCALENDAR
