BEGIN:VCALENDAR
VERSION:2.0
PRODID:-//ChamberMaster//Event Calendar 2.0//EN
METHOD:PUBLISH
X-PUBLISHED-TTL:P3D
REFRESH-INTERVAL:P3D
CALSCALE:GREGORIAN
BEGIN:VEVENT
DTSTART:20221212T000000Z
DTEND:20221212T014500Z
X-MICROSOFT-CDO-ALLDAYEVENT:FALSE
SUMMARY:G. F. Handel Messiah Sing
DESCRIPTION:Join Us for the G. F. Handel Messiah Sing\n\nThe First Parish Church\, Congregational\, of Manchester-by-the-Sea is presenting its first annual Handel's Messiah Sing on Sunday\, December 11 at 7 p.m.  We will sing Part One and the Hallelujah Chorus. The public is invited to attend and sing these wonderful Messiah choruses!  This event will be conducted by well-known composer and conductor\, Dr. Herman Weiss\, and will also feature professional soloists and a 14-piece orchestra\, so be sure to be there when the doors open at 7.  The music will begin at 7:15. Running time will be one hour and 15 minutes. You are encouraged to bring your own vocal score   we honor all editions!  We will have a supply of scores\, as well\, if you need one.  Listeners are welcome to attend\, also.  For those unable to attend\, we will livestream and record the Sing. A reception will be held in the Chapel Hall directly afterward. A free will offering at the door will be gratefully accepted to support future community events\, but is not required to attend   all are welcome! First Parish is located at 10 Central St. (Rt. 127) in Manchester. For more information\, view the church website https://www.firstparishchurch.org/ or call the church office\, (978) 526-7661\, ext. 1.
X-ALT-DESC;FMTTYPE=text/html:<strong><em><span style="font-family:times new roman\,serif"><span style="font-size:16.0pt">Join Us for the G. F. Handel Messiah Sing</span></span></em></strong><br />\nThe First Parish Church\, Congregational\, of Manchester-by-the-Sea is presenting its first annual Handel&rsquo\;s Messiah Sing on Sunday\, December 11 at 7 p.m.&nbsp\; We will sing Part One and the Hallelujah Chorus. The public is invited to attend and sing these wonderful Messiah choruses!&nbsp\; This event will be conducted by well-known composer and conductor\, Dr. Herman Weiss\, and will also feature professional soloists and a 14-piece orchestra\, so be sure to be there when the doors open at 7.&nbsp\; The music will begin at 7:15. Running time will be one hour and 15 minutes. You are encouraged to bring your own vocal score &ndash\; we honor all editions!&nbsp\; We will have a supply of scores\, as well\, if you need one.&nbsp\; Listeners are welcome to attend\, also.&nbsp\; For those unable to attend\, we will livestream and record the Sing. A reception will be held in the Chapel Hall directly afterward. A free will offering at the door will be gratefully accepted to support future community events\, but is not required to attend &ndash\; all are welcome! First Parish is located at 10 Central St. (Rt. 127) in Manchester. For more information\, view the church website <a href="https://www.firstparishchurch.org/">https://www.firstparishchurch.org/</a> or call the church office\, (978) 526-7661\, ext. 1.
LOCATION:First Parish Church 10 Central St. Manchester by the Sea\, MA
UID:e.2981.23178
SEQUENCE:3
DTSTAMP:20260424T085837Z
URL:https://business.capeannchamber.com/events/details/g-f-handel-messiah-sing-23178
END:VEVENT

END:VCALENDAR
