BEGIN:VCALENDAR
VERSION:2.0
PRODID:-//ChamberMaster//Event Calendar 2.0//EN
METHOD:PUBLISH
X-PUBLISHED-TTL:P3D
REFRESH-INTERVAL:P3D
CALSCALE:GREGORIAN
BEGIN:VEVENT
DTSTART:20251210T230000Z
DTEND:20251211T003000Z
X-MICROSOFT-CDO-ALLDAYEVENT:FALSE
SUMMARY:FUNdraiser: Foraged Holiday Door Swag Workshop
DESCRIPTION:Join Backyard Growers for an evening of festive fun for a cause and learn to make your own holiday swag for your door\, using seasonal foraged materials found on Cape Ann. We'll provide drinks\, nibbles\, and all materials.\n\n\n\nProceeds support Backyard Growers' work creating equitable access to the resources people need to grow their own food in our community and at 100 percent of Gloucester Public Schools.
X-ALT-DESC;FMTTYPE=text/html:<div>\n<div>Join Backyard Growers for an evening of festive fun for a cause and learn to make your own holiday swag for your door\, using seasonal foraged materials found on Cape Ann. We&#39\;ll provide drinks\, nibbles\, and all materials.<br />\n<br />\nProceeds support Backyard Growers&#39\; work creating equitable access to the resources people need to grow their own food in our community and at 100 percent of Gloucester Public Schools.</div>\n</div>\n
LOCATION:Backyard Growers HQ 103R Maplewood Ave Gloucester\, MA 01930
UID:e.2981.45388
SEQUENCE:3
DTSTAMP:20260422T044807Z
URL:https://business.capeannchamber.com/events/details/fundraiser-foraged-holiday-door-swag-workshop-45388
END:VEVENT

END:VCALENDAR
