BEGIN:VCALENDAR
VERSION:2.0
PRODID:-//ChamberMaster//Event Calendar 2.0//EN
METHOD:PUBLISH
X-PUBLISHED-TTL:P3D
REFRESH-INTERVAL:P3D
CALSCALE:GREGORIAN
BEGIN:VEVENT
DTSTART:20250807T210000Z
DTEND:20250808T003000Z
X-MICROSOFT-CDO-ALLDAYEVENT:FALSE
SUMMARY:Funbucket Concert
DESCRIPTION:Come enjoy a beautiful night with Funbucket! Classic rock tunes will get you up and dancing all night.\n\nDelicious food will be available to purchase from these food trucks: Fat Belly BBQ and the Lobster Roller. Cash bar will be selling a selection of beer\, wine\, and signature cocktails.\n\n\n	Doors open at 5p.m.\; Concert begins at 6p.m.\n	Outside food or beverage not permitted.\n	No totes\, bags\, or coolers allowed.\n	Please bring your own lawn chairs/blankets.\n	This event is rain or shine. Tickets are non-refundable.\n\n\nPARKING: Free for all attendees. Accessible parking spots are located on the Misselwood property. Additional parking will be available across the street in the Frates Lot.\n\nKids under 12 are free with an adult. Online sales of $25.00 per ticket ends on Thursday\, Aug 7 at 12pm. Tickets purchased at the door are $30.00 each.\n\nPlease call Misselwood events at 978-232-2128 with any questions.
X-ALT-DESC;FMTTYPE=text/html:<p>Come enjoy a beautiful night with Funbucket! Classic rock tunes will get you up and dancing all night.</p>\n\n<p>Delicious food will be available to purchase from these food trucks:&nbsp\;<a href="http://www.fatbellybbq.com/" rel="nofollow noopener noreferrer" style="background-color: transparent\; color: var(--eds-control\,#3659e3)\; box-sizing: border-box\; padding-top: 0px\;" target="_blank" title="http://www.fatbellybbq.com/">Fat Belly BBQ</a>&nbsp\;and the&nbsp\;<a href="https://thelobsterroller.com/" rel="nofollow noopener noreferrer" style="background-color: transparent\; color: var(--eds-control\,#3659e3)\; box-sizing: border-box\;" target="_blank" title="https://thelobsterroller.com/">Lobster Roller</a>. Cash bar will be selling a selection of beer\, wine\, and signature cocktails.</p>\n\n<ul>\n	<li>Doors open at 5p.m.\; Concert begins at 6p.m.</li>\n	<li>Outside food or beverage not permitted.</li>\n	<li>No totes\, bags\, or coolers allowed.</li>\n	<li>Please bring your own lawn chairs/blankets.</li>\n	<li>This event is rain or shine.&nbsp\;<strong>Tickets are non-refundable.</strong></li>\n</ul>\n\n<p>PARKING: Free for all attendees. Accessible parking spots are located on the Misselwood property. Additional parking will be available across the street in the Frates Lot.</p>\n\n<p>Kids under 12 are free with an adult. Online sales of $25.00 per ticket ends on Thursday\, Aug 7 at 12pm. Tickets purchased at the door are $30.00 each.</p>\n\n<p>Please call Misselwood events at&nbsp\;<a href="https://www.eventbrite.com/e/funbucket-concert-tickets-1144875686999?aff=oddtdtcreator" rel="nofollow noopener noreferrer" style="background-color: transparent\; color: var(--eds-control\,#3659e3)\; box-sizing: border-box\; padding-top: 0px\;" target="_blank" title=""><avayaelement class="contentWrapper"><avayaelement callelement="+19782322128" class="dcelink" id="dceLink-1" originaltext="978-232-2128">978-232-2128</avayaelement></avayaelement></a>&nbsp\;with any questions.</p>\n
LOCATION:Misselwood Events at Endicott College 407 Hale Street Beverly\, MA 01915
UID:e.2981.35006
SEQUENCE:3
DTSTAMP:20260424T235206Z
URL:https://business.capeannchamber.com/events/details/funbucket-concert-35006
END:VEVENT

END:VCALENDAR
