BEGIN:VCALENDAR
VERSION:2.0
PRODID:-//ChamberMaster//Event Calendar 2.0//EN
METHOD:PUBLISH
X-PUBLISHED-TTL:P3D
REFRESH-INTERVAL:P3D
CALSCALE:GREGORIAN
BEGIN:VEVENT
DTSTART:20241208T003000Z
DTEND:20241208T033000Z
X-MICROSOFT-CDO-ALLDAYEVENT:FALSE
SUMMARY:Full Moon Somewhere Performing Live at The James Pub
DESCRIPTION:Stop by The James Pub for a bite and some live music. \n\nFull Moon Somewhere will be performing from 7:30 - 10:30 PM
X-ALT-DESC;FMTTYPE=text/html:<div><span style="color:#FF0000\;"><span style="font-size:16px\;"><span style="font-family:arial\;">Stop by The James Pub for a bite and some live music.&nbsp\;</span></span></span></div>\n\n<div><span style="font-size:16px\;"><span style="font-family:arial\;">Full Moon Somewhere will be performing from 7:30 - 10:30 PM</span></span></div>\n<br />\n&nbsp\;
LOCATION:The James Pub 55 Main Street Essex\, MA 01929
UID:e.2981.34239
SEQUENCE:3
DTSTAMP:20260424T141012Z
URL:https://business.capeannchamber.com/events/details/full-moon-somewhere-performing-live-at-the-james-pub-34239
END:VEVENT

END:VCALENDAR
