BEGIN:VCALENDAR
VERSION:2.0
PRODID:-//ChamberMaster//Event Calendar 2.0//EN
METHOD:PUBLISH
X-PUBLISHED-TTL:P3D
REFRESH-INTERVAL:P3D
CALSCALE:GREGORIAN
BEGIN:VEVENT
DTSTART:20260501T223000Z
DTEND:20260502T000000Z
X-MICROSOFT-CDO-ALLDAYEVENT:FALSE
SUMMARY:Full Flower Moon Yin Yoga & Salt Cave Experience
DESCRIPTION:As Beltane arrives and the Full Flower Moon rises\, you are invited to gather at Revive for a grounding and expansive seasonal Yin Yoga practice.\n\nTogether we will move slowly into long-held yin postures supported by deep breathwork\, allowing the body to soften\, hydrate the fascia\, and gently nourish the joints.\n\nThe evening will also include meditation\, essential oils\, and the option to receive gentle Reiki or Polarity Therapy while in posture.\n\nWe will also share a custom flower essence\, if you feel called\, to connect with the vibrant energy of Beltane and the blossoming Full Flower Moon.\n\nOur practice will close with twenty minutes of deep rest in the salt cave.\n\nThis will be a beautiful pause to replenish the body\, quiet the mind\, and welcome the beauty of this season. \n\nCome celebrate the full moon with us & unwind.
X-ALT-DESC;FMTTYPE=text/html:<p>As Beltane arrives and the Full Flower Moon rises\, you are invited to gather at Revive for a grounding and expansive seasonal Yin Yoga practice.</p>\n\n<p>Together we will move slowly into long-held yin postures supported by deep breathwork\, allowing the body to soften\, hydrate the fascia\, and gently nourish the joints.</p>\n\n<p>The evening will also include meditation\, essential oils\, and the option to receive gentle Reiki or Polarity Therapy while in posture.</p>\n\n<p>We will also share a custom flower essence\, if you feel called\, to connect with the vibrant energy of Beltane and the blossoming Full Flower Moon.</p>\n\n<p>Our practice will close with twenty minutes of deep rest in the salt cave.</p>\n\n<p>This will be a beautiful pause to replenish the body\, quiet the mind\, and welcome the beauty of this season.&nbsp\;</p>\n\n<p>Come celebrate the full moon with us &amp\; unwind.&nbsp\;</p>\n
LOCATION:Revive Wellness 232 Main St. Gloucester
UID:e.2981.46426
SEQUENCE:3
DTSTAMP:20260422T072824Z
URL:https://business.capeannchamber.com/events/details/full-flower-moon-yin-yoga-salt-cave-experience-46426
END:VEVENT

END:VCALENDAR
