BEGIN:VCALENDAR
VERSION:2.0
PRODID:-//ChamberMaster//Event Calendar 2.0//EN
METHOD:PUBLISH
X-PUBLISHED-TTL:P3D
REFRESH-INTERVAL:P3D
CALSCALE:GREGORIAN
BEGIN:VEVENT
DTSTART:20221016T230000Z
DTEND:20221017T010000Z
X-MICROSOFT-CDO-ALLDAYEVENT:FALSE
SUMMARY:From A. To Beatles at Shalin Liu
DESCRIPTION:Spearheaded by Boston Hall of Fame guitarist JOHNNY A. and stemming from his passion for The Beatles\, this new trio From A. to Beatles is a collaboration from Johnny A. and his like-minded musician friends to instrumentally "re-imagine" the music of The Beatles.
X-ALT-DESC;FMTTYPE=text/html:<span style="background-color:rgb(250\, 250\, 250)\; color:rgb(0\, 0\, 0)\; font-family:open sans\,helvetica neue\,helvetica\,arial\,sans-serif\; font-size:18px">Spearheaded by Boston Hall of Fame guitarist JOHNNY A. and stemming from his passion for The Beatles\, this new trio From A. to Beatles is a collaboration from Johnny A. and his like-minded musician friends to instrumentally &ldquo\;re-imagine&rdquo\; the music of The Beatles.&nbsp\;</span>
LOCATION:37 Main Street\, Rockport MA\, 01966
UID:e.2981.22939
SEQUENCE:3
DTSTAMP:20260424T123620Z
URL:https://business.capeannchamber.com/events/details/from-a-to-beatles-at-shalin-liu-22939
END:VEVENT

END:VCALENDAR
