BEGIN:VCALENDAR
VERSION:2.0
PRODID:-//ChamberMaster//Event Calendar 2.0//EN
METHOD:PUBLISH
X-PUBLISHED-TTL:P3D
REFRESH-INTERVAL:P3D
CALSCALE:GREGORIAN
BEGIN:VEVENT
DTSTART:20241208T140000Z
DTEND:20241208T213000Z
X-MICROSOFT-CDO-ALLDAYEVENT:FALSE
SUMMARY:Friendship Tree Lighting in Manchester-by-the Sea 2024
DESCRIPTION:Join Us for the Friendship Tree Lighting and other Holiday Events in Manchester-by-the-Sea\n\n\n\nSunday\, December 8\n\n	Breakfast & Photos with Santa: 9:00 AM - 12:00 PM | Manchester Masonic Lodge\, 10 Church St. Breakfast: $12 each - Under 5 FREE\n\n \n\n\n	Community Carol Sing: 2:30 - 3:15 PM | First Parish Church (Inside) Sing traditional carols around the piano and a spirited and hilarious "12 Days of Christmas" immediately before the Tree Lighting. Wear a festive hat! Happening rain or shine.\n\n \n\n\n	Community Friendship Tree Lighting & Program: 3:30 PM | In front of Town Hall Common (Outside) Enjoy a concert by the MERHS Band\, Chorus and Sound Waves\, Manchester-Essex Elementary School Chorus\, as well as a dance performance by students of the Ballet de Mar School. The tree lighting will go on at dusk regardless of the weather. Sponsored by the Manchester Woman's Club | Hot Chocolate donated by the Masons.
X-ALT-DESC;FMTTYPE=text/html:<span style="font-size: 16px\; font-family: tahoma\;"><strong><span style="font-size: 22px\;">Join Us for the Friendship Tree Lighting and other Holiday Events in Manchester-by-the-Sea</span></strong></span><br />\n<br />\n<strong style="color: rgb(255\, 0\, 0)\; font-family: tahoma\; font-size: 18px\;">Sunday\,&nbsp\;December&nbsp\;8</strong>\n<ul style="font-size: 16px\; font-family: tahoma\;">\n	<li><strong><span style="color: rgb(0\, 128\, 0)\;">Breakfast &amp\; Photos with Santa:</span>&nbsp\;9:00 AM - 12:00 PM | Manchester Masonic Lodge\, 10 Church St.&nbsp\;</strong>Breakfast: $12 each - Under 5 FREE</li>\n</ul>\n&nbsp\;\n\n<ul style="font-size: 16px\; font-family: tahoma\;">\n	<li><strong><span style="color:#008000\;">Community Carol Sing:</span> 2:30 - 3:15 PM | First Parish Church (Inside) </strong>Sing&nbsp\;traditional carols around the piano and a spirited and hilarious &quot\;12 Days of Christmas&quot\; immediately before the Tree Lighting. Wear a festive hat!&nbsp\;Happening rain or shine.</li>\n</ul>\n&nbsp\;\n\n<ul style="font-size: 16px\; font-family: tahoma\;">\n	<li><strong><span style="color:#008000\;">Community Friendship Tree Lighting &amp\; Program: </span>3:30 PM | In front of Town Hall Common (Outside)&nbsp\;</strong>Enjoy a concert by the MERHS Band\, Chorus and Sound Waves\, Manchester-Essex Elementary School Chorus\, as well as a dance performance by students of the Ballet de Mar School.&nbsp\;The tree lighting will go on at dusk regardless of the weather.&nbsp\;<em>Sponsored by the Manchester Woman&#39\;s Club | Hot Chocolate donated by the Masons.</em></li>\n</ul>\n
LOCATION:Various Locations - See Event Description for Detailed Information
UID:e.2981.33219
SEQUENCE:3
DTSTAMP:20260424T123900Z
URL:https://business.capeannchamber.com/events/details/friendship-tree-lighting-in-manchester-by-the-sea-2024-33219
END:VEVENT

END:VCALENDAR
