BEGIN:VCALENDAR
VERSION:2.0
PRODID:-//ChamberMaster//Event Calendar 2.0//EN
METHOD:PUBLISH
X-PUBLISHED-TTL:P3D
REFRESH-INTERVAL:P3D
CALSCALE:GREGORIAN
BEGIN:VEVENT
DTSTART:20221011T233000Z
DTEND:20221012T013000Z
X-MICROSOFT-CDO-ALLDAYEVENT:FALSE
SUMMARY:FREE Staged Reading of White\, Black and Blue by Steve Henderson & Will Chalmus
DESCRIPTION:A young man becomes a fugitive with a hostage and the only obstacle standing between him and his home is an off-duty police officer. The three men resort to desperate measures in attempts to get back to their normal lives\, but they must rely on each other to do so.
X-ALT-DESC;FMTTYPE=text/html:A young man becomes a fugitive with a hostage and the only obstacle standing between him and his home is an off-duty police officer. The three men resort to desperate measures in attempts to get back to their normal lives\, but they must rely on each other to do so.
LOCATION:Gloucester Stage Company 267 E Main St. Gloucester\, MA\, 19030
UID:e.2981.22774
SEQUENCE:3
DTSTAMP:20260424T141328Z
URL:https://business.capeannchamber.com/events/details/free-staged-reading-of-venus-rising-by-steve-henderson-will-chalmus-22774
END:VEVENT

END:VCALENDAR
