BEGIN:VCALENDAR
VERSION:2.0
PRODID:-//ChamberMaster//Event Calendar 2.0//EN
METHOD:PUBLISH
X-PUBLISHED-TTL:P3D
REFRESH-INTERVAL:P3D
CALSCALE:GREGORIAN
BEGIN:VEVENT
DTSTART:20250823T140000Z
DTEND:20250921T210000Z
X-MICROSOFT-CDO-ALLDAYEVENT:FALSE
SUMMARY:Fourth Summer Show - Juried Artist Members\, Rockport Art Association & Museum
DESCRIPTION:Fourth Summer Show - Juried Artist Members\n\n(Juried for Entry)\n\nRockport Art Association & Museum\n\nAugust 23 - September 21\, 2025\n\n\n\nReception: August 28\, 2025\, 6:00 - 8:00 PM
X-ALT-DESC;FMTTYPE=text/html:Fourth Summer Show - Juried Artist Members<br />\n(Juried for Entry)<br />\nRockport Art Association &amp\; Museum<br />\nAugust 23 - September 21\, 2025<br />\n<br />\n<strong>Reception: August 28\, 2025\, 6:00 - 8:00 PM</strong>
LOCATION:Rockport Art Association & Museum 12 Main Street Rockport\, MA 01966
UID:e.2981.43012
SEQUENCE:3
DTSTAMP:20260425T000509Z
URL:https://business.capeannchamber.com/events/details/fourth-summer-show-juried-artist-members-rockport-art-association-museum-43012
END:VEVENT

END:VCALENDAR
