BEGIN:VCALENDAR
VERSION:2.0
PRODID:-//ChamberMaster//Event Calendar 2.0//EN
METHOD:PUBLISH
X-PUBLISHED-TTL:P3D
REFRESH-INTERVAL:P3D
CALSCALE:GREGORIAN
BEGIN:VEVENT
DTSTART:20250419T000000Z
DTEND:20250420T020000Z
X-MICROSOFT-CDO-ALLDAYEVENT:FALSE
SUMMARY:Foreigners Journey - A Tribute to Foreigner and Journey
DESCRIPTION:From power ballads like "I Want to Know What Love Is\," and "Faithfully" to anthems like "Jukebox Hero\," "Stone In Love\," "Cold As Ice\," "Separate Ways\," and "Don't Stop Believin'." Foreigners Journey are more than a tribute band. They're a time machine\, and their energy is infectious.\n\n\nAlmost any music fan who came of age in the 1980s will cite Foreigner and Journey as bands that sound tracked their young life\, bands that are forever lodged in their mind. Back then\, the two acts might have been separated by an ocean\, but together they helped define the "magic era" of classic rock.\n\nAt one point not too long ago\, they toured the world as a one-two combination\, but don't count on it happening again. Luckily\, you can count on Foreigners Journey\, a veritable tribute-band supergroup\, to deliver the unforgettable experience of seeing both bands in one knockout show.\n\nForeigners Journey comprises veteran members of the music scene\, guys who've made it with their own original music. But since 2014 they've also dedicated themselves to something larger\, a supergroup intent on bringing the sounds\, sights\, and emotional thrills of two of rock 'n' roll's greatest bands to eager fans around the Northeast and beyond.\n\nFeaturing American Idol finalist\, Rudy Cardenas on Lead Vocals. Keyboardist Paul Kochanski\, Bassist Joe Pettengill and Drummer Art Mambuca (and his sprawling double kick-drum kit) all played together in the Journey tribute band Captured. And\, rounding out the band is hotshot Guitarist Kevin Alexander Herrera and Adam Tese on Saxophone. Their repertoire of classics hits by Foreigner and Journey and a few surprises provides a crowd-pleasing night of unforgettable music.
X-ALT-DESC;FMTTYPE=text/html:<p>From power ballads like &quot\;I Want to Know What Love Is\,&quot\; and &quot\;Faithfully&quot\; to anthems like &quot\;Jukebox Hero\,&quot\; &ldquo\;Stone In Love\,&rdquo\; &ldquo\;Cold As Ice\,&rdquo\; &quot\;Separate Ways\,&quot\; and &quot\;Don&#39\;t Stop Believin&#39\;.&quot\; Foreigners Journey are more than a tribute band. They&#39\;re a time machine\, and their energy is infectious.</p>\n\n<div>\n<p>Almost any music fan who came of age in the 1980s will cite Foreigner and Journey as bands that sound tracked their young life\, bands that are forever lodged in their mind. Back then\, the two acts might have been separated by an ocean\, but together they helped define the &ldquo\;magic era&rdquo\; of classic rock.</p>\n\n<p>At one point not too long ago\, they toured the world as a one-two combination\, but don&rsquo\;t count on it happening again. Luckily\, you can count on Foreigners Journey\, a veritable tribute-band supergroup\, to deliver the unforgettable experience of seeing both bands in one knockout show.</p>\n\n<p>Foreigners Journey comprises veteran members of the music scene\, guys who&rsquo\;ve made it with their own original music. But since 2014 they&rsquo\;ve also dedicated themselves to something larger\, a supergroup intent on bringing the sounds\, sights\, and emotional thrills of two of rock &lsquo\;n&rsquo\; roll&rsquo\;s greatest bands to eager fans around the Northeast and beyond.</p>\n\n<p>Featuring American Idol finalist\, Rudy Cardenas on Lead Vocals. Keyboardist Paul Kochanski\, Bassist Joe Pettengill and Drummer Art Mambuca (and his sprawling double kick-drum kit) all played together in the Journey tribute band Captured. And\, rounding out the band is hotshot Guitarist Kevin Alexander Herrera and Adam Tese on Saxophone. Their repertoire of classics hits by Foreigner and Journey and a few surprises provides a crowd-pleasing night of unforgettable music.</p>\n</div>\n
LOCATION:The Cabot 286 Cabot St Beverly\, MA 01915
UID:e.2981.35163
SEQUENCE:3
DTSTAMP:20260424T140551Z
URL:https://business.capeannchamber.com/events/details/foreigners-journey-a-tribute-to-foreigner-and-journey-35163
END:VEVENT

END:VCALENDAR
