BEGIN:VCALENDAR
VERSION:2.0
PRODID:-//ChamberMaster//Event Calendar 2.0//EN
METHOD:PUBLISH
X-PUBLISHED-TTL:P3D
REFRESH-INTERVAL:P3D
CALSCALE:GREGORIAN
BEGIN:VEVENT
DTSTART:20210731T160000Z
DTEND:20210827T220000Z
X-MICROSOFT-CDO-ALLDAYEVENT:FALSE
SUMMARY:Folly Cove Fine Art Past Masters Show
DESCRIPTION:Folly Cove Fine Art is proud to present a collection of the past masters of the Cape Ann School.  Works by Harrison Cady\, Anthony Thieme\, Gifford Beal\, Gordon Hope Grant\, Emile Gruppe\, Aldro Hibbard\, William Lester Stevens\, and Frederick Mulhaupt will be available for purchase\, along with many more.  These works will be exhibited for sale in our main gallery at 41 Main Street through the month of August. \n\n\n\nExperience the history of fine art on Cape Ann at Folly Cove Fine Art.
X-ALT-DESC;FMTTYPE=text/html:Folly Cove Fine Art is proud to present a collection of the past masters of the Cape Ann School.&nbsp\; Works by Harrison Cady\, Anthony Thieme\, Gifford Beal\, Gordon Hope Grant\, Emile Gruppe\, Aldro Hibbard\, William Lester Stevens\, and Frederick Mulhaupt will be available for purchase\, along with many more.&nbsp\; These works will be exhibited for sale in our main gallery at 41 Main Street through the month of August.&nbsp\;<br />\n<br />\nExperience the history of fine art on Cape Ann at Folly Cove Fine Art.
LOCATION:
UID:e.2981.21121
SEQUENCE:3
DTSTAMP:20260424T201159Z
URL:https://business.capeannchamber.com/events/details/folly-cove-fine-art-past-masters-show-21121
END:VEVENT

END:VCALENDAR
