BEGIN:VCALENDAR
VERSION:2.0
PRODID:-//ChamberMaster//Event Calendar 2.0//EN
METHOD:PUBLISH
X-PUBLISHED-TTL:P3D
REFRESH-INTERVAL:P3D
CALSCALE:GREGORIAN
BEGIN:VEVENT
DTSTART:20221009T173000Z
DTEND:20221009T190000Z
X-MICROSOFT-CDO-ALLDAYEVENT:FALSE
SUMMARY:Fitz Henry Lane in Gloucester Walking Tour
DESCRIPTION:Delve into the 19th century on this tour through the neighborhoods and waterfront areas that inspired the artwork of native son Fitz Henry Lane.\n\n\n\nLearn how Lane rose from modest beginnings in the pre-Civil War era to worldwide recognition as a marine painter and why\, even today\, numerous artists journey to Cape Ann to capture its unusual light. Participants are encouraged to bring a smart phone or tablet in order to access the rich sources of information available at Fitz Henry Lane Online and to connect specific locations to the paintings they inspired.\n\n\n\nGuided walking tours are held rain or shine and last about 1½ hours\; participants should be comfortable being on their feet for that amount of time. Face masks are required and dogs are not allowed on Museum walks.\n\n\n\nCost is $10 CAM members / $20 nonmembers (includes Museum admission). Space is limited\; advance registration required.\n\nReserve online or call 978-283-0455 x10 or email info@capeannmuseum.org.
X-ALT-DESC;FMTTYPE=text/html:Delve into the 19th century on this tour through the neighborhoods and waterfront areas that inspired the artwork of native son Fitz Henry Lane.<br>\n<br>\nLearn how Lane rose from modest beginnings in the pre-Civil War era to worldwide recognition as a marine painter and why\, even today\, numerous artists journey to Cape Ann to capture its unusual light. Participants are encouraged to bring a smart phone or tablet in order to access the rich sources of information available at Fitz Henry Lane Online and to connect specific locations to the paintings they inspired.<br>\n<br>\nGuided walking tours are held rain or shine and last about 1½ hours\; participants should be comfortable being on their feet for that amount of time. Face masks are required and dogs are not allowed on Museum walks.<br>\n<br>\nCost is $10 CAM members / $20 nonmembers (includes Museum admission). Space is limited\; advance registration required.<br>\nReserve online or call 978-283-0455 x10 or email info@capeannmuseum.org.
LOCATION:Cape Ann Museum 27 Pleasant St Gloucester\, MA 01930
UID:e.2981.23059
SEQUENCE:3
DTSTAMP:20260424T141008Z
URL:https://business.capeannchamber.com/events/details/fitz-henry-lane-in-gloucester-walking-tour-10-09-2022-23059
END:VEVENT

END:VCALENDAR
