BEGIN:VCALENDAR
VERSION:2.0
PRODID:-//ChamberMaster//Event Calendar 2.0//EN
METHOD:PUBLISH
X-PUBLISHED-TTL:P3D
REFRESH-INTERVAL:P3D
CALSCALE:GREGORIAN
BEGIN:VEVENT
DTSTART:20250816T210000Z
DTEND:20250816T220000Z
X-MICROSOFT-CDO-ALLDAYEVENT:FALSE
SUMMARY:Fishermen's Memorial Service
DESCRIPTION:The annual Fishermen's Memorial Service will be held on Saturday\, August 16th  at 5:00 PM .  This Service is to remember and honor all of those who have lost their lives in the long history of Gloucester's fishing industry.  The Service starts with a procession from the American Legion\, down Middle Street and onto Stacy Boulevard. Everyone is invited to join the procession.  It is led by a line of drummers and many of those walking carry flowers to toss into the sea at the end of the ceremony to remember loved ones or hold boat oars carrying the names of Gloucester fishing boats\, past and present.  \n\n \n\n \n\nPlease join the Fishermen's Memorial Service Committee in remembering those who lost their lives fishing from America's oldest seaport.
X-ALT-DESC;FMTTYPE=text/html:<span style="font-size:12.0pt\;">The annual Fishermen&rsquo\;s Memorial Service will be held on Saturday\, August 16<sup>th</sup> &nbsp\;at 5:00 PM .&nbsp\; This Service is to remember and honor all of those who have lost their lives in the long history of Gloucester&rsquo\;s fishing industry.&nbsp\; The Service starts with a procession from the American Legion\, down Middle Street and onto Stacy Boulevard. Everyone is invited to join the procession.&nbsp\; It is led by a line of drummers and many of those walking carry flowers to toss into the sea at the end of the ceremony to remember loved ones or hold boat oars carrying the names of Gloucester fishing boats\, past and present.&nbsp\; </span><br />\n&nbsp\;<br />\n&nbsp\;<br />\n<span style="font-size:12.0pt\;">Please join the Fishermen&rsquo\;s Memorial Service Committee in remembering those who lost their lives fishing from America&rsquo\;s oldest seaport.&nbsp\; </span><br />\n&nbsp\;
LOCATION:The Service starts with a procession from the American Legion\, down Middle Street\, and onto Stacy Boulevard.
UID:e.2981.41372
SEQUENCE:3
DTSTAMP:20260425T011136Z
URL:https://business.capeannchamber.com/events/details/fishermen-s-memorial-service-41372
END:VEVENT

END:VCALENDAR
