BEGIN:VCALENDAR
VERSION:2.0
PRODID:-//ChamberMaster//Event Calendar 2.0//EN
METHOD:PUBLISH
X-PUBLISHED-TTL:P3D
REFRESH-INTERVAL:P3D
CALSCALE:GREGORIAN
BEGIN:VEVENT
DTSTART:20221007T220000Z
DTEND:20221008T000000Z
X-MICROSOFT-CDO-ALLDAYEVENT:FALSE
SUMMARY:First Fridays: Art After Hours
DESCRIPTION:Enjoy free admission to the Cape Ann Museum every First Friday from 6:00   8:00 pm. Each month\, CAM partners with a practicing\, contemporary artist to interpret the Museum's collections. Watch art come to life through dance\, music\, performance\, painting\, and more.  \n\nThis fall\, the Cape Ann Museum is excited for this inaugural gathering with Rockport Brewing Co. to offer a new brew paired with a piece of art every month. Imagine being on board Fitz Henry Lane's Lumber Brig in High Seas with Rockport Brewing's seasonal Oktober Gale. Taste the dark notes of caramel and envision yourself under Lane's dark storm clouds. Free tastings will be provided courtesy of Rockport Brewing Co.
X-ALT-DESC;FMTTYPE=text/html:<p><span style="font-family:inherit">Enjoy free admission to the Cape Ann Museum every&nbsp\;</span><a href="https://www.capeannmuseum.org/programs/community-programs/first-fridays-art-after-hours/" style="box-sizing: border-box\; margin: 0px\; padding: 0px\; border: 0px\; font-weight: bold\; font-style: inherit\; font-family: inherit\; vertical-align: baseline\; background: transparent\; color: rgb(21\, 91\, 128)\; text-decoration-line: none\;">First Friday</a><span style="font-family:inherit">&nbsp\;from 6:00 &ndash\; 8:00 pm. Each month\, CAM partners with a practicing\, contemporary artist to interpret the Museum&rsquo\;s collections. Watch art come to life through dance\, music\, performance\, painting\, and more.</span><span style="font-family:inherit">&nbsp\;</span><span style="font-family:inherit">&nbsp\;</span></p>\n\n<p><span style="font-family:inherit">This fall\, the Cape Ann Museum is excited for this inaugural gathering with Rockport Brewing Co. to offer a new brew paired with a piece of art every month. Imagine being on board Fitz Henry Lane&rsquo\;s&nbsp\;</span><a href="http://fitzhenrylaneonline.org/catalog/entry.php?id=36" style="box-sizing: border-box\; margin: 0px\; padding: 0px\; border: 0px\; font-weight: bold\; font-style: inherit\; font-family: inherit\; vertical-align: baseline\; background: transparent\; color: rgb(21\, 91\, 128)\; text-decoration-line: none\;">Lumber Brig in High Seas</a><span style="font-family:inherit">&nbsp\;with Rockport Brewing&rsquo\;s seasonal Oktober Gale. Taste the dark notes of caramel and envision yourself under Lane&rsquo\;s dark storm clouds. Free tastings will be provided courtesy of Rockport Brewing Co.&nbsp\;</span></p>\n
LOCATION:Cape Ann Museum 27 Pleasant St Gloucester\, MA 01930
UID:e.2981.23130
SEQUENCE:3
DTSTAMP:20260424T123519Z
URL:https://business.capeannchamber.com/events/details/first-fridays-art-after-hours-23130
END:VEVENT

END:VCALENDAR
