BEGIN:VCALENDAR
VERSION:2.0
PRODID:-//ChamberMaster//Event Calendar 2.0//EN
METHOD:PUBLISH
X-PUBLISHED-TTL:P3D
REFRESH-INTERVAL:P3D
CALSCALE:GREGORIAN
BEGIN:VEVENT
DTSTART:20221104T220000Z
DTEND:20221105T000000Z
X-MICROSOFT-CDO-ALLDAYEVENT:FALSE
SUMMARY:First Fridays: Art After Hours
DESCRIPTION:Downtown Campus\, 27 Pleasant Street\, Gloucester\, MA \n\nFree and open to the public. Registration required.  \n\nEnjoy free admission to the Cape Ann Museum every First Friday from 6:00   8:00 pm. Each month\, CAM partners with a practicing\, contemporary artist to interpret the Museum's collections. Watch art come to life through dance\, music\, performance\, painting\, and more.  \n\nThis month\, the Museum is proud to welcome Sarah Slifer Swift from Movement Arts Gloucester\, MA (MAGMA) and Steven Lacey\, guitarist back for an in-person presentation of their virtual performance from January 2022. Their combined performance will bring art to life through improvisational dance and music. \n\nIn addition to the performance\, the Museum is excited to continue partnering with Rockport Brewing Co. to offer free tasting of beer paired with art from the collection. Visitors can imagine being on board Fitz Henry Lane's Lumber Brig in High Seas with Rockport Brewing's seasonal Oktober Gale. Taste the dark notes of caramel and envision yourself under Lane's dark storm clouds. Free tastings will be provided courtesy of Rockport Brewing Co.
X-ALT-DESC;FMTTYPE=text/html:<p><em><span style="font-family:inherit"><span style="font-family:inherit">Downtown Campus\, 27 Pleasant Street\, Gloucester\, MA</span></span><span style="font-family:inherit"><span style="font-family:inherit">&nbsp\;</span></span><br />\n<span style="font-family:inherit"><span style="font-family:inherit">Free and open to the public. Registration required.&nbsp\;</span></span><span style="font-family:inherit">&nbsp\;</span></em></p>\n\n<p><span style="font-family:inherit">Enjoy free admission to the Cape Ann Museum every&nbsp\;</span><a href="https://www.capeannmuseum.org/programs/community-programs/first-fridays-art-after-hours/" style="box-sizing: border-box\; margin: 0px\; padding: 0px\; border: 0px\; font-weight: bold\; font-style: inherit\; font-family: inherit\; vertical-align: baseline\; background: transparent\; color: rgb(21\, 91\, 128)\; text-decoration-line: none\;">First Friday</a><span style="font-family:inherit">&nbsp\;from 6:00 &ndash\; 8:00 pm. Each month\, CAM partners with a practicing\, contemporary artist to interpret the Museum&rsquo\;s collections. Watch art come to life through dance\, music\, performance\, painting\, and more.</span><span style="font-family:inherit">&nbsp\;</span><span style="font-family:inherit">&nbsp\;</span></p>\n\n<p><span style="font-family:inherit">This month\, the Museum is proud to welcome&nbsp\;</span><span style="font-family:inherit">Sarah Slifer Swift from Movement Arts Gloucester\, MA (MAGMA) and Steven Lacey\, guitarist</span><span style="font-family:inherit">&nbsp\;back for an in-person presentation of their&nbsp\;</span><a href="https://vimeo.com/663123883" style="box-sizing: border-box\; margin: 0px\; padding: 0px\; border: 0px\; font-weight: bold\; font-style: inherit\; font-family: inherit\; vertical-align: baseline\; background: transparent\; color: rgb(21\, 91\, 128)\; text-decoration-line: none\;">virtual performance</a><span style="font-family:inherit">&nbsp\;from January 2022. Their combined performance will&nbsp\;</span><span style="font-family:inherit">bring art to life through improvisational dance and music.</span><span style="font-family:inherit">&nbsp\;</span></p>\n\n<p><span style="font-family:inherit">In addition to the performance\, the Museum is excited to continue partnering with Rockport Brewing Co. to offer free tasting of beer paired with art from the collection. Visitors can imagine being on board Fitz Henry Lane&rsquo\;s&nbsp\;</span><a href="http://fitzhenrylaneonline.org/catalog/entry.php?id=36" style="box-sizing: border-box\; margin: 0px\; padding: 0px\; border: 0px\; font-weight: bold\; font-style: inherit\; font-family: inherit\; vertical-align: baseline\; background: transparent\; color: rgb(21\, 91\, 128)\; text-decoration-line: none\;">Lumber Brig in High Seas</a><span style="font-family:inherit">&nbsp\;with Rockport Brewing&rsquo\;s seasonal Oktober Gale. Taste the dark notes of caramel and envision yourself under Lane&rsquo\;s dark storm clouds. Free tastings will be provided courtesy of Rockport Brewing Co.&nbsp\;</span><span style="font-family:inherit">&nbsp\;</span></p>\n
LOCATION:Cape Ann Museum 27 Pleasant St Gloucester\, MA 01930
UID:e.2981.23139
SEQUENCE:3
DTSTAMP:20260424T110754Z
URL:https://business.capeannchamber.com/events/details/first-fridays-art-after-hours-11-04-2022-23139
END:VEVENT

END:VCALENDAR
