BEGIN:VCALENDAR
VERSION:2.0
PRODID:-//ChamberMaster//Event Calendar 2.0//EN
METHOD:PUBLISH
X-PUBLISHED-TTL:P3D
REFRESH-INTERVAL:P3D
CALSCALE:GREGORIAN
BEGIN:VEVENT
DTSTART:20250704T003000Z
DTEND:20250704T030000Z
X-MICROSOFT-CDO-ALLDAYEVENT:FALSE
SUMMARY:Fireworks Sail Aboard Schooner Adventure!
DESCRIPTION:Get front row seats to watch Gloucester's 2024 Fireworks display\; a special local tradition! We will anchor in Gloucester Harbor to provide the perfect platform to view this annual event. BYO Picnic and Beverages. Tickets are available on our website.
X-ALT-DESC;FMTTYPE=text/html:<span style="background-color:rgb(255\, 255\, 255)\; font-family:poppins\; font-size:17.456px">Get front row seats to watch Gloucester&#39\;s 2024 Fireworks display\; a special local tradition! We will anchor in Gloucester Harbor to provide the perfect platform to view this annual event. BYO Picnic and Beverages. Tickets are available on our website.</span>
LOCATION:Depart from 23 Harbor Loop Viewing Gloucester Harbor
UID:e.2981.37320
SEQUENCE:3
DTSTAMP:20260422T093409Z
URL:https://business.capeannchamber.com/events/details/fireworks-sail-aboard-schooner-adventure-37320
END:VEVENT

END:VCALENDAR
