BEGIN:VCALENDAR
VERSION:2.0
PRODID:-//ChamberMaster//Event Calendar 2.0//EN
METHOD:PUBLISH
X-PUBLISHED-TTL:P3D
REFRESH-INTERVAL:P3D
CALSCALE:GREGORIAN
BEGIN:VEVENT
DTSTART;VALUE=DATE:20230218
DTEND;VALUE=DATE:20230219
TRANSP:TRANSPARENT
X-MICROSOFT-CDO-ALLDAYEVENT:TRUE
SUMMARY:Firelight Nights
DESCRIPTION:Ditch the Winter blues with Firelight Nights. Held in the courtyard in front of the Great House\, this outdoor concert experience for adults includes onsite parking\, entertainment\, s'mores fixings\, and 1 drink ticket. Think summer picnic concert but without the bugs and kiddos. And\, oh yeah\, there will be roaring fire pits and hot adult beverages! The 1634 Meadery and Mill River Winery will serve up hot cocktails and mulled wine. Additional drinks may be purchased onsite.\n\nWarm clothing and footgear are highly recommended. This event is entirely outdoors and the Great House will not be open to visitors. Bands will perform in a warming tent\, which guests are welcome to visit. Guests may bring their own snacks or supper but not beverages. Ages 21 and older only\, please.\n\nBand schedule:\n\n\n	Feb 10 Psychedelic Relics Classic Rock\n	Feb 11 Catnip Junkies New Orleans Jazz\n	Feb 17 Soul City Soul and Motown\n	Feb 18 PanNeubean Steel Calypso
X-ALT-DESC;FMTTYPE=text/html:<p>Ditch the Winter blues with Firelight Nights. Held in the courtyard in front of the Great House\, this outdoor concert experience for adults includes onsite parking\, entertainment\, s&rsquo\;mores fixings\, and 1 drink ticket. Think summer picnic concert but without the bugs and kiddos. And\, oh yeah\, there will be roaring fire pits and hot adult beverages! The 1634 Meadery and Mill River Winery will serve up hot cocktails and mulled wine. Additional drinks may be purchased onsite.</p>\n\n<p>Warm clothing and footgear are highly recommended. This event is entirely outdoors and the Great House will not be open to visitors. Bands will perform in a warming tent\, which guests are welcome to visit. Guests may bring their own snacks or supper but not beverages. Ages 21 and older only\, please.</p>\n\n<p>Band schedule:</p>\n\n<ul>\n	<li>Feb 10 Psychedelic Relics&ndash\;Classic Rock</li>\n	<li>Feb 11 Catnip Junkies&ndash\;New Orleans Jazz</li>\n	<li>Feb 17 Soul City&ndash\;Soul and Motown</li>\n	<li>Feb 18 PanNeubean Steel&ndash\;Calypso</li>\n</ul>\n
LOCATION:Castle Hill on the Crane Estate\, 290 Argilla Road\, Ipswich
UID:e.2981.24638
SEQUENCE:3
DTSTAMP:20260425T173912Z
URL:https://business.capeannchamber.com/events/details/firelight-nights-02-18-2023-24638
END:VEVENT

END:VCALENDAR
