BEGIN:VCALENDAR
VERSION:2.0
PRODID:-//ChamberMaster//Event Calendar 2.0//EN
METHOD:PUBLISH
X-PUBLISHED-TTL:P3D
REFRESH-INTERVAL:P3D
CALSCALE:GREGORIAN
BEGIN:VEVENT
DTSTART:20211213T003000Z
DTEND:20211213T020000Z
X-MICROSOFT-CDO-ALLDAYEVENT:FALSE
SUMMARY:Firebird Pops Orchestra Christmas at The Castle Concert.
DESCRIPTION:Extended by Popular Demand! Sunday\, December 12\, 5pm show just added!\n\nSaturday\, December 11\,  SOLD OUT. \n\n\n\nCome join musicians from the Firebird Pops Orchestra as they present an evening of Holiday Chamber Music in a setting unlike any other   the Hammond Castle Museum Great Hall on the beautiful Gloucester coast.  The evening will feature selections from select Firebird string and brass musicians\, as well as FPO's principal pianist\, spanning the ages from modern day favorites all the way back to the era of Gregorian Chant.\n\nThe orchestra and chamber groups will perform works by Sir David Willcocks\, Matt Riley\, Morten Lauridsen\, Leroy Anderson\, and Pyotr I. Tchaikovsky\, among others.  The concert will also include favorite carols such as O Come\, All Ye Faithful\, The First Noel\, Hark! The Herald Angels Sing\, and O Holy Night\, and classics including selections from The Nutcracker Suite\, and the ubiquitous holiday favorite\, Sleigh Ride! The ensembles performing will be a 12-piece string orchestra\, a brass quintet\, and a string quartet.
X-ALT-DESC;FMTTYPE=text/html:<p><strong><span style="color:black"><span style="font-family:calibri\,sans-serif">Extended by Popular Demand! Sunday\, December 12\, 5pm show just added!</span></span></strong></p>\n\n<p><span style="color:black"><span style="font-family:calibri\,sans-serif"><strong>Saturday\, December 11\,&nbsp\; SOLD OUT.&nbsp\;</strong><br />\n<br />\nCome join musicians from the Firebird Pops Orchestra as they present an evening of Holiday Chamber Music in a setting unlike any other &ndash\; the Hammond Castle Museum Great Hall on the beautiful Gloucester coast. &nbsp\;The evening will feature selections from select Firebird string and brass musicians\, as well as FPO&rsquo\;s principal pianist\, spanning the ages from modern day favorites all the way back to the era of Gregorian Chant.</span></span><br />\n<span style="color:black"><span style="font-family:calibri\,sans-serif">The orchestra and chamber groups will perform works by Sir David Willcocks\, Matt Riley\, Morten Lauridsen\, Leroy Anderson\, and Pyotr I. Tchaikovsky\, among others. &nbsp\;The concert will also include favorite carols such as&nbsp\;<em><span style="font-family:calibri\,sans-serif">O Come\,&nbsp\;All&nbsp\;Ye Faithful\, The First Noel\, Hark! The&nbsp\;Herald Angels Sing\,&nbsp\;</span></em></span>and&nbsp\;<em><span style="font-family:calibri\,sans-serif">O Holy Night\, and&nbsp\;</span></em></span>classics including selections from&nbsp\;<em><span style="font-family:calibri\,sans-serif">The Nutcracker Suite</span></em>\, and the ubiquitous holiday favorite\,&nbsp\;<em><span style="font-family:calibri\,sans-serif">Sleigh Ride</span></em>!&nbsp\;<span style="color:black"><span style="font-family:calibri\,sans-serif">The ensembles performing will be a 12-piece string orchestra\, a brass quintet\, and a string quartet.</span></span></p>\n
LOCATION:Hammond Castle Museum 80 Hesperus Avenue Gloucester\, MA 01930
UID:e.2981.21565
SEQUENCE:3
DTSTAMP:20260425T023046Z
URL:https://business.capeannchamber.com/events/details/firebird-pops-orchestra-christmas-at-the-castle-concert-12-12-2021-21565
END:VEVENT

END:VCALENDAR
