BEGIN:VCALENDAR
VERSION:2.0
PRODID:-//ChamberMaster//Event Calendar 2.0//EN
METHOD:PUBLISH
X-PUBLISHED-TTL:P3D
REFRESH-INTERVAL:P3D
CALSCALE:GREGORIAN
BEGIN:VEVENT
DTSTART:20231223T003000Z
DTEND:20231223T023000Z
X-MICROSOFT-CDO-ALLDAYEVENT:FALSE
SUMMARY:Firebird Pops Orchestra: Christmas At The Castle
DESCRIPTION:Premier Seating: $50\n\nGeneral Seating: $40\n\n\n\n\n\nGet ready to be swept away by a patriotic musical extravaganza as the Firebird Pops returns to Hammond Castle Museum for an unforgettable seaside concert celebrating the essence of America. Artistic Director and Conductor\, Brendan J. Kenney will lead the Pops' powerful strings and brass ensembles as in inspiring renditions of beloved classics like "America the Beautiful" and "Eternal Father\, Strong to Save." But that's just the beginning! Experience a symphonic journey through the vibrant landscapes and rich cultural traditions that define our nation\, with original compositions like the breathtaking "American Sketches" and a captivatinExperience the North Shore's beloved holiday tradition as it returns for its third year at the picturesque Hammond Castle Museum   Christmas at the Castle! Immerse yourself in the enchanting ambiance of the season with the Firebird Pops' sublime string and brass ensembles and members of Firebird Vox.\n\n\n\nThis mesmerizing evening of elegant holiday melodies will truly ignite your festive spirit! The performance will feature the extraordinary vocal talents of acclaimed soloists Mara Bonde and Fred C. VanNess\, Jr\, direct from his appearance at the Metropolitan Opera in New York. Classic holiday favorites like "Sleigh Ride\," "Carol of the Bells\," and "O Holy Night" will envelop you in the cozy embrace of the most wonderful time of the year. Join us for an unforgettable night of music and merriment against the enchanting backdrop of Hammond Castle Museum's Great Hall.\n\n\n\n*This ticket grants you access to the Firebird Pops Orchestra performance. At the time of this event\, the Museum will be closed to tours. If concert ticket holders wish to tour Hammond Castle Museum prior to 3pm on the day of their ticketed performance\, Self-Guided Tour tickets may be purchased in the Museum Shop at a 20% discount. Proof of purchase of the Christmas at the Castle performance will be required. The Museum and Museum Shop close promptly at 4:00pm.\n\n\n\nAll proceeds from this program support the ongoing restoration and preservation of Hammond Castle Museum.
X-ALT-DESC;FMTTYPE=text/html:<span style="color:#181818"><span style="font-family:calibri light\,sans-serif"><span style="font-size:12pt">Premier Seating: $50</span></span></span><br />\n<span style="color:#181818"><span style="font-family:calibri light\,sans-serif"><span style="font-size:12pt">General Seating: $40</span></span></span><br />\n<br />\n<br />\n<span style="color:#181818"><span style="font-family:calibri light\,sans-serif"><span style="font-size:12pt">Get ready to be swept away by a patriotic musical extravaganza as the Firebird Pops returns to Hammond Castle Museum for an unforgettable seaside concert celebrating the essence of America. Artistic Director and Conductor\, Brendan J. Kenney will lead the Pops&#39\; powerful strings and brass ensembles as in inspiring renditions of beloved classics like &quot\;America the Beautiful&quot\; and &quot\;Eternal Father\, Strong to Save.&quot\; But that&#39\;s just the beginning! Experience a symphonic journey through the vibrant landscapes and rich cultural traditions that define our nation\, with original compositions like the breathtaking &quot\;American Sketches&quot\; and a captivatin</span></span><span style="font-family:calibri\,sans-serif"><span style="font-size:12.0pt">Experience the North Shore&#39\;s beloved holiday tradition as it returns for its third year at the picturesque Hammond Castle Museum &ndash\; Christmas at the Castle! Immerse yourself in the enchanting ambiance of the season with the Firebird Pops&#39\; sublime string and brass ensembles and members of Firebird Vox.</span></span></span><br />\n<br />\n<span style="color:#181818"><span style="font-family:calibri\,sans-serif"><span style="font-size:12.0pt">This mesmerizing evening of elegant holiday melodies will truly ignite your festive spirit! The performance will feature the extraordinary vocal talents of acclaimed soloists Mara Bonde and Fred C. VanNess\, Jr\, direct from his appearance at the Metropolitan Opera in New York. Classic holiday favorites like &quot\;Sleigh Ride\,&quot\; &quot\;Carol of the Bells\,&quot\; and &quot\;O Holy Night&quot\; will envelop you in the cozy embrace of the most wonderful time of the year. Join us for an unforgettable night of music and merriment against the enchanting backdrop of Hammond Castle Museum&#39\;s Great Hall.</span></span><br />\n<br />\n<span style="font-family:calibri light\,sans-serif"><span style="font-size:12.0pt">*This ticket grants you access to the Firebird Pops Orchestra performance. At the time of this event\, the Museum will be closed to tours. If concert ticket holders wish to tour Hammond Castle Museum prior to 3pm on the day of their ticketed performance\, Self-Guided Tour tickets may be purchased in the Museum Shop at a 20% discount. Proof of purchase of the Christmas at the Castle performance will be required. The Museum and Museum Shop close promptly at 4:00pm.<br />\n<br />\nAll proceeds from this program support the ongoing restoration and preservation of Hammond Castle Museum.</span></span></span>
LOCATION:Hammond Castle Museum 80 Hesperus Avenue Gloucester\, MA
UID:e.2981.26987
SEQUENCE:3
DTSTAMP:20260421T214948Z
URL:https://business.capeannchamber.com/events/details/firebird-pops-orchestra-christmas-at-the-castle-26987
END:VEVENT

END:VCALENDAR
