BEGIN:VCALENDAR
VERSION:2.0
PRODID:-//ChamberMaster//Event Calendar 2.0//EN
METHOD:PUBLISH
X-PUBLISHED-TTL:P3D
REFRESH-INTERVAL:P3D
CALSCALE:GREGORIAN
BEGIN:VEVENT
DTSTART:20251220T003000Z
DTEND:20251220T023000Z
X-MICROSOFT-CDO-ALLDAYEVENT:FALSE
SUMMARY:Firebird Pops Orchestra: Christmas at the Castle
DESCRIPTION:Performances:\n\n  Friday\, December 19 | Doors: 7:00 pm\, Performance: 7:30 pm\n\n  Saturday\, December 20 | Doors: 4:30 pm\,  Performance: 5:00 pm /  Doors: 7: 30 pm\, Performance: 8:00 pm\n\n  Sunday\, December 21 | Doors: 5:00 pm\, Performance: 5:30 pm\n\n\n\nChristmas at the Castle returns for its fifth season in the breathtaking splendor of Hammond Castle Museum's Great Hall! Let the radiant strings and majestic brass of the Firebird Pops surround you with timeless holiday charm and shimmering film-score magic.\n\n\n\nJoined by acclaimed soloists Mara Bonde and Sandra Piques Eddy under the baton of Firebird Pops Orchestra's Music Director Brendan J. Kenney\, this program sparkles with beloved seasonal classics\, heartwarming music from the movies\, and imaginative arrangements that capture both the spirit of the season and the castle's medieval grandeur. From O Holy Night and A Christmas Festival to Sleigh Ride\, you'll delight in cherished favorites alongside reimaginings that weave together Gregorian chant\, familiar and medieval carols\, and classical brilliance   creating an atmosphere of festive warmth throughout the Great Hall.\n\n\n\nBe part of the North Shore's most treasured holiday tradition.\n\n\n\nThese performances are made possible in part through the generous support of the Gloucester Cultural Council.\n\n\n\nAt the time of this performance\, guests will also experience the Holiday Illumination and a portion of the Deck the Halls celebration. Beginning with the stroll from the parking lot\, attendees will enjoy the Holiday Illumination lights cast upon the castle's exterior\, including the iconic arches\, bell tower\, front Towers\, and drawbridge. As you enter the Museum and continue through the small rooms leading from the Museum Shop to the Great Hall\, you'll enjoy a peek into the annual Deck The Halls holiday celebration\, where in Museum is dressed for the holidays.\n\n\n\nWhile the rest of the Museum will be closed for tours during this time\, attendees are eligible for a 20% discount on self-guided tour tickets for the day of their performance reservation. Discounted tickets can be purchased in person at the Museum shop until 2:00 PM on the day of the event with proof of the performance reservation.\n\n\n\nProceeds from these performances will support the ongoing restoration and preservation of the Museum. Museum Member savings apply.
X-ALT-DESC;FMTTYPE=text/html:<span style="color:rgb(74\, 74\, 74)\; font-family:lato\,sans-serif\; font-size:18px">Performances:</span><br />\n<span style="color:rgb(74\, 74\, 74)\; font-family:lato\,sans-serif\; font-size:18px">&bull\; Friday\, December 19 | Doors: 7:00 pm\, Performance: 7:30 pm</span><br />\n<span style="color:rgb(74\, 74\, 74)\; font-family:lato\,sans-serif\; font-size:18px">&bull\; Saturday\, December 20 | Doors: 4:30 pm\,&nbsp\; Performance: 5:00 pm /&nbsp\; Doors: 7: 30 pm\, Performance: 8:00 pm</span><br />\n<span style="color:rgb(74\, 74\, 74)\; font-family:lato\,sans-serif\; font-size:18px">&bull\; Sunday\, December 21 | Doors: 5:00 pm\, Performance: 5:30 pm</span><br />\n<br />\n<span style="color:rgb(74\, 74\, 74)\; font-family:lato\,sans-serif\; font-size:18px">Christmas at the Castle returns for its fifth season in the breathtaking splendor of Hammond Castle Museum&rsquo\;s Great Hall! Let the radiant strings and majestic brass of the Firebird Pops surround you with timeless holiday charm and shimmering film-score magic.</span><br />\n<br />\n<span style="color:rgb(74\, 74\, 74)\; font-family:lato\,sans-serif\; font-size:18px">Joined by acclaimed soloists</span><a href="https://www.marabonde.com/bio" style="box-sizing: border-box\; text-decoration-line: none\; color: rgb(153\, 26\, 36)\; box-shadow: none\; font-family: Lato\, sans-serif\; font-size: 18px\; letter-spacing: 0.6px\;">&nbsp\;Mara Bonde</a><span style="color:rgb(74\, 74\, 74)\; font-family:lato\,sans-serif\; font-size:18px">&nbsp\;and&nbsp\;</span><a href="https://www.sandrapiqueseddy.com/about" style="box-sizing: border-box\; text-decoration-line: none\; color: rgb(153\, 26\, 36)\; box-shadow: none\; font-family: Lato\, sans-serif\; font-size: 18px\; letter-spacing: 0.6px\;">Sandra Piques Eddy</a><span style="color:rgb(74\, 74\, 74)\; font-family:lato\,sans-serif\; font-size:18px">&nbsp\;under the baton of&nbsp\;</span><a href="https://firebirdpops.org/" style="box-sizing: border-box\; text-decoration-line: none\; color: rgb(153\, 26\, 36)\; box-shadow: none\; font-family: Lato\, sans-serif\; font-size: 18px\; letter-spacing: 0.6px\;">Firebird Pops Orchestra&rsquo\;s</a><span style="color:rgb(74\, 74\, 74)\; font-family:lato\,sans-serif\; font-size:18px">&nbsp\;Music Director&nbsp\;</span><a href="https://firebirdpops.org/about/" style="box-sizing: border-box\; text-decoration-line: none\; color: rgb(153\, 26\, 36)\; box-shadow: none\; font-family: Lato\, sans-serif\; font-size: 18px\; letter-spacing: 0.6px\;">Brendan J. Kenney</a><span style="color:rgb(74\, 74\, 74)\; font-family:lato\,sans-serif\; font-size:18px">\, this program sparkles with beloved seasonal classics\, heartwarming music from the movies\, and imaginative arrangements that capture both the spirit of the season and the castle&rsquo\;s medieval grandeur. From O Holy Night and A Christmas Festival to Sleigh Ride\, you&rsquo\;ll delight in cherished favorites alongside reimaginings that weave together Gregorian chant\, familiar and medieval carols\, and classical brilliance &ndash\; creating an atmosphere of festive warmth throughout the Great Hall.</span><br />\n<br />\n<span style="color:rgb(74\, 74\, 74)\; font-family:lato\,sans-serif\; font-size:18px">Be part of the North Shore&rsquo\;s most treasured holiday tradition.</span><br />\n<br />\n<span style="color:rgb(74\, 74\, 74)\; font-family:lato\,sans-serif\; font-size:18px">These performances are made possible in part through the generous support of the Gloucester Cultural Council.</span><br />\n<br />\n<span style="color:rgb(74\, 74\, 74)\; font-family:lato\,sans-serif\; font-size:18px">At the time of this performance\, guests will also experience the Holiday Illumination and a portion of the Deck the Halls celebration. Beginning with the stroll from the parking lot\, attendees will enjoy the Holiday Illumination lights cast upon the castle&rsquo\;s exterior\, including the iconic arches\, bell tower\, front Towers\, and drawbridge. As you enter the Museum and continue through the small rooms leading from the Museum Shop to the Great Hall\, you&rsquo\;ll enjoy a peek into the annual Deck The Halls holiday celebration\, where in Museum is dressed for the holidays.</span><br />\n<br />\n<span style="color:rgb(74\, 74\, 74)\; font-family:lato\,sans-serif\; font-size:18px">While the rest of the Museum will be closed for tours during this time\, attendees are eligible for a 20% discount on self-guided tour tickets for the day of their performance reservation. Discounted tickets can be purchased in person at the Museum shop until 2:00 PM on the day of the event with proof of the performance reservation.</span><br />\n<br />\n<span style="color:rgb(74\, 74\, 74)\; font-family:lato\,sans-serif\; font-size:18px">Proceeds from these performances will support the ongoing restoration and preservation of the Museum. Museum Member savings apply.</span>
LOCATION:Hammond Castle Museum 80 Hesperus Avenue Gloucester\, MA 01930
UID:e.2981.45489
SEQUENCE:3
DTSTAMP:20260422T022807Z
URL:https://business.capeannchamber.com/events/details/firebird-pops-orchestra-christmas-at-the-castle-11-13-2025-45489
END:VEVENT

END:VCALENDAR
