BEGIN:VCALENDAR
VERSION:2.0
PRODID:-//ChamberMaster//Event Calendar 2.0//EN
METHOD:PUBLISH
X-PUBLISHED-TTL:P3D
REFRESH-INTERVAL:P3D
CALSCALE:GREGORIAN
BEGIN:VEVENT
DTSTART:20220212T180000Z
DTEND:20220212T190000Z
X-MICROSOFT-CDO-ALLDAYEVENT:FALSE
SUMMARY:Fire Shut Up In My Bones (Encore) at Shalin Liu
DESCRIPTION:Due to its popularity\, we are screening an encore presentation of Fire Shut Up in My Bones! Yannick N zet-S guin conducts Grammy Award winning jazz musician and composer Terence Blanchard's acclaimed adaptation of the celebrated memoir by New York Times columnist Charles M. Blow. Featuring a libretto by filmmaker Kasi Lemmons\, the opera tells the story of a young man's journey to overcome a life of trauma and hardship. James Robinson and Camille A. Brown two of the creators of the Met's recent production of Porgy and Bess co-direct this new staging.
X-ALT-DESC;FMTTYPE=text/html:<span style="color:rgb(0\, 0\, 0)\; font-family:docs-calibri\; font-size:15px">Due to its popularity\, we are screening an encore presentation of Fire Shut Up in My Bones! Yannick N&eacute\;zet-S&eacute\;guin conducts Grammy Award&ndash\;winning jazz musician and composer Terence Blanchard&rsquo\;s acclaimed adaptation of the celebrated memoir by New York Times columnist Charles M. Blow. Featuring a libretto by filmmaker Kasi Lemmons\, the opera tells the story of a young man&rsquo\;s journey to overcome a life of trauma and hardship. James Robinson and Camille A. Brown&mdash\;two of the creators of the Met&rsquo\;s recent production of Porgy and Bess&mdash\;co-direct this new staging.</span>
LOCATION:Shalin Liu Performance Center 37 Main Street Rockport\, MA 01966
UID:e.2981.21766
SEQUENCE:3
DTSTAMP:20260420T135059Z
URL:https://business.capeannchamber.com/events/details/fire-shut-up-in-my-bones-encore-at-shalin-liu-21766
END:VEVENT

END:VCALENDAR
