BEGIN:VCALENDAR
VERSION:2.0
PRODID:-//ChamberMaster//Event Calendar 2.0//EN
METHOD:PUBLISH
X-PUBLISHED-TTL:P3D
REFRESH-INTERVAL:P3D
CALSCALE:GREGORIAN
BEGIN:VEVENT
DTSTART:20250708T190000Z
DTEND:20250708T213000Z
X-MICROSOFT-CDO-ALLDAYEVENT:FALSE
SUMMARY:Film: The Lion King
DESCRIPTION:Lion prince Simba and his father are targeted by his bitter uncle\, who wants to ascend the throne himself.
X-ALT-DESC;FMTTYPE=text/html:<p><span style="color:rgb(0\, 0\, 0)\; font-family:open sans\,arial\,helvetica\,sans-serif\; font-size:16px">Lion prince Simba and his father are targeted by his bitter uncle\, who wants to ascend the throne himself.</span></p>\n
LOCATION:37 Main St\, Rockport\, MA 01966
UID:e.2981.36740
SEQUENCE:3
DTSTAMP:20260425T211402Z
URL:https://business.capeannchamber.com/events/details/film-the-lion-king-36740
END:VEVENT

END:VCALENDAR
