BEGIN:VCALENDAR
VERSION:2.0
PRODID:-//ChamberMaster//Event Calendar 2.0//EN
METHOD:PUBLISH
X-PUBLISHED-TTL:P3D
REFRESH-INTERVAL:P3D
CALSCALE:GREGORIAN
BEGIN:VEVENT
DTSTART:20251120T220000Z
DTEND:20251120T233000Z
X-MICROSOFT-CDO-ALLDAYEVENT:FALSE
SUMMARY:Film Screening & Panel Discussion: Timeline Cape Ann: Sawyer Free Library
DESCRIPTION:Ever wonder how Gloucester's public library came to be? Join us for a special evening that explores the remarkable story of the Sawyer Free Library from its 19th-century beginnings in the Gloucester Lyceum to its role today as a vibrant civic and cultural hub.\n\nThe program will feature a screening of Timeline Cape Ann: Sawyer Free Library\, a short documentary written and produced by Kory Curcuru of 1623 Studios. The film traces the Library's journey through nearly two centuries of growth\, highlighting Samuel Sawyer's vision in establishing one of the nation's earliest free public libraries\, and showing how that legacy continues to shape Gloucester's civic life.\n\nFollowing the screening\, Kory Curcuru\, Sawyer Free Library Local History Librarian Julie Travers and a few others will lead a panel discussion and audience Q&A\, offering insight into the Library's enduring role in education\, culture\, and community connection.\n\nCome discover the people\, stories\, and moments that shaped the Sawyer Free Library and celebrate the history of a public institution that continues to evolve with Gloucester.
X-ALT-DESC;FMTTYPE=text/html:<p>Ever wonder how Gloucester&rsquo\;s public library came to be? Join us for a special evening that explores the remarkable story of the Sawyer Free Library&mdash\;from its 19th-century beginnings in the Gloucester Lyceum to its role today as a vibrant civic and cultural hub.</p>\n\n<p>The program will feature a screening of&nbsp\;<em>Timeline Cape Ann: Sawyer Free Library</em>\, a short documentary written and produced by Kory Curcuru of 1623 Studios. The film traces the Library&rsquo\;s journey through nearly two centuries of growth\, highlighting Samuel Sawyer&rsquo\;s vision in establishing one of the nation&rsquo\;s earliest free public libraries\, and showing how that legacy continues to shape Gloucester&rsquo\;s civic life.</p>\n\n<p>Following the screening\, Kory Curcuru\, Sawyer Free Library Local History Librarian Julie Travers and a few others will lead a panel discussion and audience Q&amp\;A\, offering insight into the Library&rsquo\;s enduring role in education\, culture\, and community connection.</p>\n\n<p>Come discover the people\, stories\, and moments that shaped the Sawyer Free Library&mdash\;and celebrate the history of a public institution that continues to evolve with Gloucester.</p>\n\n<div>&nbsp\;</div>\n<br />\n&nbsp\;
LOCATION:Sawyer Free Library\, Community Room\, Ground Floor\, 2 Dale Avenue\, Gloucester\, MA
UID:e.2981.44871
SEQUENCE:3
DTSTAMP:20260422T060832Z
URL:https://business.capeannchamber.com/events/details/film-screening-panel-discussion-timeline-cape-ann-sawyer-free-library-44871
END:VEVENT

END:VCALENDAR
