BEGIN:VCALENDAR
VERSION:2.0
PRODID:-//ChamberMaster//Event Calendar 2.0//EN
METHOD:PUBLISH
X-PUBLISHED-TTL:P3D
REFRESH-INTERVAL:P3D
CALSCALE:GREGORIAN
BEGIN:VEVENT
DTSTART:20250802T140000Z
DTEND:20250802T200000Z
X-MICROSOFT-CDO-ALLDAYEVENT:FALSE
SUMMARY:Festival by the Sea 2025
DESCRIPTION:Festival by the Sea is a celebration of the things that are synonymous with greater Cape Ann in the summertime: Art\, Music & Food!  Artist & artisan booths will be spread throughout downtown Manchester. Your senses will be inspired by the beautiful art\, extraordinary live music and the aromas of delicious\, local foods. \n\n\n\nPlease make checks payable to Greater Cape Ann Chamber of Commerce.\n\n\n\nDownload Artisan Application\n\nDownload Non-Profit Application\n\n\n\nVisit Festival by the Sea Facebook Page
X-ALT-DESC;FMTTYPE=text/html:Festival by the Sea is a celebration of the things that are synonymous with greater Cape Ann in the summertime: Art\, Music &amp\; Food!&nbsp\; Artist &amp\; artisan booths will be spread throughout downtown Manchester. Your senses will be inspired by the beautiful art\, extraordinary live music and the aromas of delicious\, local foods.&nbsp\;<br />\n<br />\n<span style="color:#FF0000\;">Please make checks payable to Greater Cape Ann Chamber of Commerce.</span><br />\n<br />\n<a href="https://chambermaster.blob.core.windows.net/userfiles/UserFiles/chambers/2981/File/2025FestivalbytheSeaApplication-Artist-fillable.pdf">Download Artisan Application</a><br />\n<a href="https://chambermaster.blob.core.windows.net/userfiles/UserFiles/chambers/2981/File/2025FestivalbytheSeaApplication-Non-Profit-fillable.pdf">Download Non-Profit Application</a><br />\n<br />\n<a href="https://www.facebook.com/festivalbythesea">Visit Festival by the Sea Facebook Page</a>
LOCATION:Masconomo Park Reed Park Town Hall Park Manchester-by-the-Sea\, MA
UID:e.2981.34912
SEQUENCE:3
DTSTAMP:20260424T235659Z
URL:https://business.capeannchamber.com/events/details/festival-by-the-sea-2025-34912
END:VEVENT

END:VCALENDAR
