BEGIN:VCALENDAR
VERSION:2.0
PRODID:-//ChamberMaster//Event Calendar 2.0//EN
METHOD:PUBLISH
X-PUBLISHED-TTL:P3D
REFRESH-INTERVAL:P3D
CALSCALE:GREGORIAN
BEGIN:VEVENT
DTSTART:20251026T160000Z
DTEND:20251026T200000Z
X-MICROSOFT-CDO-ALLDAYEVENT:FALSE
SUMMARY:Feral Flea Market & Halloween Party
DESCRIPTION:The Feral Flea Market returns to the Ipswich Ale Brewery for a Halloween party and local artisan market you'll never forget! We will have local vendors\, photo ops\, a costume contest\, beer\, food\, and so much more!\n\n\n\nSave the date: Sunday\, October 26th\, from 12 pm to 4 pm.
X-ALT-DESC;FMTTYPE=text/html:<span style="color:rgb(8\, 8\, 9)\; font-family:system-ui\,-apple-system\,system-ui\,.sfnstext-regular\,sans-serif\; font-size:15px">The Feral Flea Market returns to the Ipswich Ale Brewery for a Halloween party and local artisan market you&rsquo\;ll never forget! We will have local vendors\, photo ops\, a costume contest\, beer\, food\, and so much more!</span><br />\n<br />\n<span style="color:rgb(8\, 8\, 9)\; font-family:system-ui\,-apple-system\,system-ui\,.sfnstext-regular\,sans-serif\; font-size:15px">Save the date: Sunday\, October 26th\, from 12 pm to 4 pm.</span><br />\n<br />\n<br />\n&nbsp\;
LOCATION:2 Soffron Lane\, Ipswich\, MA
UID:e.2981.45093
SEQUENCE:3
DTSTAMP:20260422T050944Z
URL:https://business.capeannchamber.com/events/details/feral-flea-market-halloween-party-45093
END:VEVENT

END:VCALENDAR
