BEGIN:VCALENDAR
VERSION:2.0
PRODID:-//ChamberMaster//Event Calendar 2.0//EN
METHOD:PUBLISH
X-PUBLISHED-TTL:P3D
REFRESH-INTERVAL:P3D
CALSCALE:GREGORIAN
BEGIN:VEVENT
DTSTART:20140110T153000Z
DTEND:20140110T200000Z
X-MICROSOFT-CDO-ALLDAYEVENT:FALSE
SUMMARY:Family Fun Day: The Fishing Families of Gloucester
DESCRIPTION:Take a closer look at the Maritime Fisheries Galleries and the special exhibition Portraits of a Working Waterfront\; create a family portrait of your own in the Activity Center. This program is free for members and families with school age children.
X-ALT-DESC;FMTTYPE=text/html:Take a closer look at the Maritime Fisheries Galleries and the special exhibition Portraits of a Working Waterfront\; create a family portrait of your own in the Activity Center. This program is free for members and families with school age children.
LOCATION:27 Pleasant St\, Gloucester\, MA 01930 The Museum is located in the heart of downtown Gloucester\, one block north from Main Street and one short block east of City Hall and the Sawyer Free Library. Metered parking is available in the public lot across from the Museum. Gloucester is also easily accessible by public transportation on the MBTA commuter rail\, which connects Cape Ann directly with the greater Boston area and beyond. From Boston's North Station\, take the Newburyport/Rockport line to the Gloucester stop\; the Museum is a short walk (0.4 miles) from the train station.
UID:e.2981.1609
SEQUENCE:3
DTSTAMP:20260420T020747Z
URL:https://business.capeannchamber.com/events/details/family-fun-day-the-fishing-families-of-gloucester-01-10-2014-1609
END:VEVENT

END:VCALENDAR
