BEGIN:VCALENDAR
VERSION:2.0
PRODID:-//ChamberMaster//Event Calendar 2.0//EN
METHOD:PUBLISH
X-PUBLISHED-TTL:P3D
REFRESH-INTERVAL:P3D
CALSCALE:GREGORIAN
BEGIN:VEVENT
DTSTART:20140614T140000Z
DTEND:20140614T140000Z
X-MICROSOFT-CDO-ALLDAYEVENT:FALSE
SUMMARY:FAMILY CONCERT: Inkas Wasi
DESCRIPTION:Explore the music and dance of the culturally rich Andes!  The musicians of Inkas Wasi will perform traditional Andean music and demonstrate the instruments such as the chakchas\, palo de lluvia\, Sikusm Quena and Charango.  Inkas Wasi has provided concerts and educational programs to over 100 schools across the United State and is an active member of the New England Foundation of the Arts\, The Maine Arts Commission\, National Flute Association\, North American Folk Music and Dance Alliance\, among many more.  Free\, no tickets required.
X-ALT-DESC;FMTTYPE=text/html:Explore the music and dance of the culturally rich Andes!  The musicians of Inkas Wasi will perform traditional Andean music and demonstrate the instruments such as the chakchas\, palo de lluvia\, Sikusm Quena and Charango.  Inkas Wasi has provided concerts and educational programs to over 100 schools across the United State and is an active member of the New England Foundation of the Arts\, The Maine Arts Commission\, National Flute Association\, North American Folk Music and Dance Alliance\, among many more.  Free\, no tickets required.
LOCATION:Shalin Liu Performance Center\, Rockport\, Ma 01966
UID:e.2981.1243
SEQUENCE:3
DTSTAMP:20260419T175111Z
URL:https://business.capeannchamber.com/events/details/family-concert-inkas-wasi-06-14-2014-1243
END:VEVENT

END:VCALENDAR
