BEGIN:VCALENDAR
VERSION:2.0
PRODID:-//ChamberMaster//Event Calendar 2.0//EN
METHOD:PUBLISH
X-PUBLISHED-TTL:P3D
REFRESH-INTERVAL:P3D
CALSCALE:GREGORIAN
BEGIN:VEVENT
DTSTART:20211017T230000Z
DTEND:20211018T010000Z
X-MICROSOFT-CDO-ALLDAYEVENT:FALSE
SUMMARY:Postponed: Fall Movie Nights at Hammond Castle Museum: Nosferatu
DESCRIPTION:This event has been postponed. A new date will be announced shortly. \n\n\n\nThe Fall Movie Series is generously sponsored by the Institution for Savings.\n\nHammond Castle Museum is once again teaming up with Cape Ann Cinema as we present a " Fall Movie Series"  of four classic movies.  Internationally acclaimed silent film live accompanist\, Peter Krasinski returns to perform during three silent movies this season.   Parking is always free.\n\nThe series includes:\n\n\n	\n	October 17th: Nosferatu with Peter Krasinski ($20)\n	\n	\n	October 24th: The Phantom of The Opera with Peter Krasinski ($20)\n	\n	\n	November 12th: Robin Hood with Peter Krasinski ($20)\n	\n	\n	November 21st: Highlander: 35th Anniversary Showing ($15)\n\n	 \n\n	Now Showing: October 17th    NOSFERATU: A SYMPHONY OF HORROR (1922)\n\n	An unofficial (and unauthorized) adaptation of Bram Stoker's 1897 novel "Dracula\," this German Expressionist masterpiece from F.W. Murnau features Max Schreck's patently creepy performance as the iconic "Count Orlok." (The production company\, Prana Film\, declared itself bankrupt after the film's release to avoid paying for copyright infringement to Stoker's widow).Visit hammondcastle.org for more details on movies\, to watch trailers\, and to purchase tickets! \n	\n\n\nThe Museum is located at 80 Hesperus Avenue\, Gloucester\, MA.  978-283-2080
X-ALT-DESC;FMTTYPE=text/html:<p style="text-align:center"><strong><span style="font-size:12px"><span style="font-family:times new roman"><tt><em><span style="color:#0000FF">This event has been postponed. A new date will be announced shortly.&nbsp\;</span><br />\n<br />\nThe Fall Movie Series is generously sponsored by the Institution for Savings.</em></tt></span></span></strong></p>\n\n<p><span style="font-size:12px"><span style="font-family:times new roman"><tt>Hammond Castle Museum is once again teaming up with&nbsp\;<a href="https://capeanncinema.com/" rel="noopener" style="box-sizing: border-box\; color: rgb(27\, 117\, 188)\; text-decoration-line: none\; background-color: transparent\;" target="_blank">Cape Ann Cinema</a>&nbsp\;as we present a &ldquo\;&nbsp\;<em>Fall Movie Series&rdquo\;</em>&nbsp\; of four classic movies.&nbsp\;&nbsp\;Internationally acclaimed silent film live accompanist\,<a href="https://krasinski.org/bio/" rel="noopener" style="box-sizing: border-box\; color: rgb(27\, 117\, 188)\; text-decoration-line: none\; background-color: transparent\;" target="_blank">&nbsp\;Peter Krasinski</a>&nbsp\;returns to perform during three silent movies this season.&nbsp\; &nbsp\;Parking is always free.</tt></span></span></p>\n\n<p><span style="font-size:12px"><span style="font-family:times new roman"><tt>The series includes:</tt></span></span></p>\n\n<ul>\n	<li>\n	<p><span style="font-size:12px"><span style="font-family:times new roman"><tt>October 17th:&nbsp\;<em>Nosferatu</em>&nbsp\;with Peter Krasinski ($20)</tt></span></span></p>\n	</li>\n	<li>\n	<p><span style="font-size:12px"><span style="font-family:times new roman"><tt>October 24th:&nbsp\;<em>The Phantom of The Oper</em>a with Peter Krasinski ($20)</tt></span></span></p>\n	</li>\n	<li>\n	<p><span style="font-size:12px"><span style="font-family:times new roman"><tt>November 12th:&nbsp\;<em>Robin Hood</em>&nbsp\;with Peter Krasinski ($20)</tt></span></span></p>\n	</li>\n	<li>\n	<p><span style="font-size:12px"><span style="font-family:times new roman"><tt>November 21st:&nbsp\;<em>Highlander</em>: 35th Anniversary Showing ($15)</tt></span></span><br />\n	&nbsp\;</p>\n\n	<p><span style="font-size:12px"><span style="color:rgb(0\, 0\, 0)\; font-family:roboto\,sans-serif">Now Showing: October 17th &ndash\;&nbsp\;&nbsp\;NOSFERATU: A SYMPHONY OF HORROR (1922)</span><br />\n	<span style="color:rgb(0\, 0\, 0)\; font-family:roboto\,sans-serif">An unofficial (and unauthorized) adaptation of Bram Stoker&rsquo\;s 1897 novel &ldquo\;Dracula\,&rdquo\; this German Expressionist masterpiece from</span></span><span style="color:rgb(0\, 0\, 0)\; font-family:roboto\,sans-serif"><span style="font-family:arial\,helvetica\,sans-serif">&nbsp\;</span></span><span style="font-family:arial\,helvetica\,sans-serif"><a href="https://www.imdb.com/name/nm0003638/?ref_=nv_sr_srsg_0" rel="noopener" style="box-sizing: border-box\; color: rgb(27\, 117\, 188)\; text-decoration-line: none\; font-family: Roboto\, sans-serif\; font-size: 16px\;" target="_blank">F.W. Murnau</a></span><span style="color:rgb(0\, 0\, 0)\; font-family:roboto\,sans-serif"><span style="font-family:arial\,helvetica\,sans-serif">&nbsp\;f</span></span><span style="font-size:12px"><span style="color:rgb(0\, 0\, 0)\; font-family:roboto\,sans-serif">eatures&nbsp\;</span><a href="https://www.imdb.com/name/nm0775180/?ref_=nv_sr_srsg_0" rel="noopener" style="box-sizing: border-box\; color: rgb(27\, 117\, 188)\; text-decoration-line: none\; font-family: Roboto\, sans-serif\; font-size: 16px\;" target="_blank">Max Schreck&rsquo\;s</a><span style="color:rgb(0\, 0\, 0)\; font-family:roboto\,sans-serif">&nbsp\;patently creepy performance as the iconic &ldquo\;Count Orlok.&rdquo\; (The production company\, Prana Film\, declared itself bankrupt after the film&rsquo\;s release to avoid paying for copyright infringement to Stoker&rsquo\;s widow).</span><span style="font-family:times new roman"><tt><span style="font-size:12px"><span style="font-family:times new roman"><tt><span style="color:black">Visit&nbsp\;<a href="https://l.facebook.com/l.php?u=http%3A%2F%2Fhammondcastle.org%2F%3Ffbclid%3DIwAR1uIygORLHX0ekaOZidq2IVY_Rway6Ku9JuWcX7d7joi2Hp-qsrPO7pD0s&amp\;h=AT3AI1FKqlhGJO20RGdJ8ajFifxyOpZ_5gwa1TmWlkCelq1CG8PVu_CjQ84ds5ZeG3o5AK87j0BKF4m8Z4bHMAAOy14g1qKI1ZZ0Hz-29xsQ5FnXXDYa09g3pMoAn-nc1e747_Vt-Htf3pVVFA&amp\;__tn__=q&amp\;c%5b0%5d=AT0Vrm52yJG1WeHGaG6OgCEb0zxTnQqegiS7GeXQuWAy1ipN5qGx5FmT_Y6kPL7ulqkSZz1XHr8yFzpM8cR7_rRwS2z7semSCggfpvcWrQbJnDlWC2Ace1LoOtx_FCum2cBhj0Ahws3VepkVEKA3_gj6UZ13RtfwUOzVWIeaWUOVvbHW" target="_blank"><span style="color:blue">hammondcastle.org</span></a>&nbsp\;for more details on movies\, to watch trailers\, and to purchase tickets!&nbsp\;</span></tt></span></span></tt></span></span></p>\n	</li>\n</ul>\n\n<p><span style="font-size:12px"><span style="font-family:times new roman"><tt><span style="color:black">The Museum is located at 80 Hesperus Avenue\, Gloucester\, MA.&nbsp\; 978-283-2080</span></tt></span></span></p>\n
LOCATION:Hammond Castle Museum 80 Hesperus Avenue Gloucester\, MA 01930
UID:e.2981.21377
SEQUENCE:3
DTSTAMP:20260422T202019Z
URL:https://business.capeannchamber.com/events/details/fall-movie-nights-at-hammond-castle-museum-21377
END:VEVENT

END:VCALENDAR
