BEGIN:VCALENDAR
VERSION:2.0
PRODID:-//ChamberMaster//Event Calendar 2.0//EN
METHOD:PUBLISH
X-PUBLISHED-TTL:P3D
REFRESH-INTERVAL:P3D
CALSCALE:GREGORIAN
BEGIN:VEVENT
DTSTART:20250830T000000Z
DTEND:20250830T020000Z
X-MICROSOFT-CDO-ALLDAYEVENT:FALSE
SUMMARY:Fabiola Mendez Trio in concert
DESCRIPTION:Fabiola M ndez is a Puerto Rican cuatrista\, singer\, educator\, and Emmy-nominated composer. Her artistic vision and original music focus on the exploration of her culture\, her ancestry\, and her identities. Fabiola's mission has always been to share and celebrate the cuatro\, folk music\, and collective story-telling. In doing so\, she's had the honor of performing at venues such as the NPR Tiny Desk\, Metropolitan Museum of Art in NYC\, Celebrity Series of Boston\, New Orleans Jazz & Heritage Festival\, Instituto de Cultura Puertorrique a\, among many others. \n\n\n\nThe Cape Ann Guitar Society is excited to announce four nights of music where we showcase some of our area's most unique musical voices in a variety of venues on Cape Ann. Our diversity is our strength - get to know the folk music of the Puerto Rican countryside\, Jewish celebrations\, the Emerald Isle\, Cape Ann maritime tradition\, and modern Americana.
X-ALT-DESC;FMTTYPE=text/html:Fabiola M&eacute\;ndez is a Puerto Rican cuatrista\, singer\, educator\, and Emmy-nominated composer. Her artistic vision and original music focus on the exploration of her culture\, her ancestry\, and her identities.&nbsp\;Fabiola&#39\;s mission has always been to share and celebrate the cuatro\, folk music\, and collective story-telling. In doing so\, she&#39\;s had the honor of performing at venues such as the NPR Tiny Desk\, Metropolitan Museum of Art in NYC\, Celebrity Series of Boston\, New Orleans Jazz &amp\; Heritage Festival\, Instituto de Cultura Puertorrique&ntilde\;a\, among many others.&nbsp\;<br />\n<br />\nThe Cape Ann Guitar Society is excited to announce four nights of music where we showcase some of our area&rsquo\;s most unique musical voices in a variety of venues on Cape Ann. Our diversity is our strength - get to know the folk music of the Puerto Rican countryside\, Jewish celebrations\, the Emerald Isle\, Cape Ann maritime tradition\, and modern Americana.
LOCATION:The Cut\, 177 Main Street\, Gloucester\, MA\, 01930
UID:e.2981.43001
SEQUENCE:3
DTSTAMP:20260425T011351Z
URL:https://business.capeannchamber.com/events/details/fabiola-mendez-trio-in-concert-43001
END:VEVENT

END:VCALENDAR
