BEGIN:VCALENDAR
VERSION:2.0
PRODID:-//ChamberMaster//Event Calendar 2.0//EN
METHOD:PUBLISH
X-PUBLISHED-TTL:P3D
REFRESH-INTERVAL:P3D
CALSCALE:GREGORIAN
BEGIN:VEVENT
DTSTART:20250827T233000Z
DTEND:20250828T010000Z
X-MICROSOFT-CDO-ALLDAYEVENT:FALSE
SUMMARY:Ezekiel's Wheels Klezmer Band in concert
DESCRIPTION:Boston based internationally-acclaimed Ezekiel's Wheels Klezmer Band brings passion\, virtuosity\, and contagious energy to every performance. The Wheels improvise with the intimacy of chamber music and the intensity of a rowdy dance band. Klezmer is a Hebrew word\, a combination of the words "kley" (vessel) and "zemer" (melody) that referred to musical instruments in ancient times. It became colloquially attached to Jewish folk musicians sometime in the Middle Ages. Working under various restrictions in different centuries and cultures\, Jewish musicians (klezmorim) developed their own unique style out of a variety of local musical styles. Figuring most prominently are Ottoman Turkish modes and Balkan gypsy and clarinet stylings. While "klezmer" referred originally only to instrumental music\, it has come to mean Yiddish vocal music as well\, encompassing both folk songs and music from the Yiddish theater\, which thrived in the early 20th century in both Warsaw and New York.\n\n \n\nThe Cape Ann Guitar Society presents Folk Week - four nights of music where we showcase some of our area's most unique musical voices in a variety of venues on Cape Ann. Our diversity is our strength - get to know the folk music of the Puerto Rican countryside\, Jewish celebrations\, the Emerald Isle\, Cape Ann maritime tradition\, and modern Americana.
X-ALT-DESC;FMTTYPE=text/html:<div>Boston based internationally-acclaimed Ezekiel&rsquo\;s Wheels Klezmer Band brings passion\, virtuosity\, and contagious energy to every performance. The Wheels improvise with the intimacy of chamber music and the intensity of a rowdy dance band. Klezmer is a Hebrew word\, a combination of the words &quot\;kley&quot\; (vessel) and &quot\;zemer&quot\; (melody) that referred to musical instruments in ancient times. It became colloquially attached to Jewish folk musicians sometime in the Middle Ages. Working under various restrictions in different centuries and cultures\, Jewish musicians (klezmorim) developed their own unique style out of a variety of local musical styles. Figuring most prominently are Ottoman Turkish modes and Balkan gypsy and clarinet stylings. While &quot\;klezmer&quot\; referred originally only to instrumental music\, it has come to mean Yiddish vocal music as well\, encompassing both folk songs and music from the Yiddish theater\, which thrived in the early 20th century in both Warsaw and New York.</div>\n\n<div>&nbsp\;</div>\n\n<div>The Cape Ann Guitar Society presents Folk Week - four nights of music where we showcase some of our area&rsquo\;s most unique musical voices in a variety of venues on Cape Ann. Our diversity is our strength - get to know the folk music of the Puerto Rican countryside\, Jewish celebrations\, the Emerald Isle\, Cape Ann maritime tradition\, and modern Americana.</div>\n
LOCATION:MAGMA - Movement Arts Gloucester Massachusetts\, 11 Pleasant Street Suite 64\, Gloucester\, MA 01930
UID:e.2981.42999
SEQUENCE:3
DTSTAMP:20260425T011517Z
URL:https://business.capeannchamber.com/events/details/ezekiel-s-wheels-klezmer-band-in-concert-42999
END:VEVENT

END:VCALENDAR
