BEGIN:VCALENDAR
VERSION:2.0
PRODID:-//ChamberMaster//Event Calendar 2.0//EN
METHOD:PUBLISH
X-PUBLISHED-TTL:P3D
REFRESH-INTERVAL:P3D
CALSCALE:GREGORIAN
BEGIN:VEVENT
DTSTART:20240926T210000Z
DTEND:20240927T000000Z
X-MICROSOFT-CDO-ALLDAYEVENT:FALSE
SUMMARY:Extended Hours: Hammond Castle Museum in the Evening
DESCRIPTION:Thursday Evening Guided Tours: (Available in July\, August & September) \n\nLed by a member of Hammond Castle Museum's talented tours staff\,  Evening Guided Tours of the Museum last approximately 35-40 minutes and cover basic information about the history of the building and its inhabitants. Major areas covered include parts of the former Laboratory\, the vast Great Hall\, and the breathtaking Courtyard. After visitors learn about these areas\, they have the opportunity to explore numerous other rooms in the former Hammond residence and the exhibits within. Don't miss your chance to see the Museum as you've never seen it before!\n\n \n\nThursday Evening Self-Guided Tours: (Available in July\, August & September) \n\nSelf-Guided Evening Tours give visitors the opportunity to move through the galleries of Hammond Castle Museum at their own pace. The Hammond Castle Museum Self-Guided Tour Booklet provides extensive and detailed information about the history of the building and its inhabitants\, as well as a suggested route to follow through the galleries. The last ticket for Evening Self-Guided Tours is sold at 7 pm. Don't miss your chance to see the Museum as you've never seen it before!
X-ALT-DESC;FMTTYPE=text/html:<p><strong><span style="font-family:gotham book">Thursday Evening Guided Tours: (Available in July\, August &amp\; September)&nbsp\;</span></strong></p>\n\n<p><span style="font-family:gotham book">Led by a member of Hammond Castle Museum&rsquo\;s talented tours staff\,&nbsp\; Evening Guided Tours of the Museum last approximately 35-40 minutes and cover basic information about the history of the building and its inhabitants. Major areas covered include parts of the former Laboratory\, the vast Great Hall\, and the breathtaking Courtyard. After visitors learn about these areas\, they have the opportunity to explore numerous other rooms in the former Hammond residence and the exhibits within. Don&rsquo\;t miss your chance to see the Museum as you&rsquo\;ve never seen it before!</span></p>\n\n<p>&nbsp\;</p>\n\n<p><strong><span style="font-family:gotham book">Thursday Evening Self-Guided Tours: (Available in July\, August &amp\; September)&nbsp\;</span></strong></p>\n\n<p><span style="font-family:gotham book">Self-Guided Evening Tours give visitors the opportunity to move through the galleries of Hammond Castle Museum at their own pace. The Hammond Castle Museum Self-Guided Tour Booklet provides extensive and detailed information about the history of the building and its inhabitants\, as well as a suggested route to follow through the galleries. The last ticket for Evening Self-Guided Tours is sold at 7 pm.&nbsp\;Don&rsquo\;t miss your chance to see the Museum as you&rsquo\;ve never seen it before!</span></p>\n
LOCATION:Hammond Castle Museum 80 Hesperus Ave Gloucester\, MA
UID:e.2981.31586
SEQUENCE:3
DTSTAMP:20260420T230434Z
URL:https://business.capeannchamber.com/events/details/extended-hours-hammond-castle-museum-in-the-evening-09-26-2024-31586
END:VEVENT

END:VCALENDAR
