BEGIN:VCALENDAR
VERSION:2.0
PRODID:-//ChamberMaster//Event Calendar 2.0//EN
METHOD:PUBLISH
X-PUBLISHED-TTL:P3D
REFRESH-INTERVAL:P3D
CALSCALE:GREGORIAN
BEGIN:VEVENT
DTSTART:20250926T000000Z
DTEND:20250926T020000Z
X-MICROSOFT-CDO-ALLDAYEVENT:FALSE
SUMMARY:Evil Dead in Concert - Screening w/ Live Original Score
DESCRIPTION:This event is only for audiences 18+\n\n\n\nEvil Dead In Concert\, a live-to-film experience that thrills and chills\, resurrects Sam Raimi's beloved cult classic in a way audiences have never seen before   in this lifetime.\n\nThe legendary film will be screened in a newly restored format and brought to life on stage while a live ensemble performs the entire revamped original musical score from composer Joe LoDuca.\n\nLoDuca began his film career by composing this iconic score for director Sam Raimi\, and went on to win multiple Emmys for his scoring work. Most recently\, Joe released a reimagining and re-recording of the original Evil Dead score called "Evil Dead: A Nightmare Reimagined\," where he re-recorded and expanded on the original musical themes of the movie. \n\nEvil Dead follows five college students on vacation in an isolated cabin in the woods\, where they unwittingly release absolute evil into the world and have to fight to survive. This indie classic is known as one of the most significant cult horror films of all time\, and has generated a massive following worldwide since its release.
X-ALT-DESC;FMTTYPE=text/html:<p><strong>This event is only for audiences 18+</strong><br />\n<br />\nEvil Dead In Concert\, a live-to-film experience that thrills and chills\, resurrects Sam Raimi&rsquo\;s beloved cult classic in a way audiences have never seen before &mdash\; in this lifetime.</p>\n\n<p>The legendary film will be screened in a newly restored format and brought to life on stage while a live ensemble performs the entire revamped original musical score from composer Joe LoDuca.</p>\n\n<p>LoDuca began his film career by composing this iconic score for director Sam Raimi\, and went on to win multiple Emmys for his scoring work. Most recently\, Joe released a reimagining and re-recording of the original Evil Dead score called &ldquo\;Evil Dead: A Nightmare Reimagined\,&rdquo\; where he re-recorded and expanded on the original musical themes of the movie.&nbsp\;</p>\n\n<p>Evil Dead follows five college students on vacation in an isolated cabin in the woods\, where they unwittingly release absolute evil into the world and have to fight to survive. This indie classic is known as one of the most significant cult horror films of all time\, and has generated a massive following worldwide since its release.</p>\n
LOCATION:The Cabot 286 Cabot St Beverly\, MA 01915
UID:e.2981.43026
SEQUENCE:3
DTSTAMP:20260425T011303Z
URL:https://business.capeannchamber.com/events/details/evil-dead-in-concert-screening-w-live-original-score-43026
END:VEVENT

END:VCALENDAR
