BEGIN:VCALENDAR
VERSION:2.0
PRODID:-//ChamberMaster//Event Calendar 2.0//EN
METHOD:PUBLISH
X-PUBLISHED-TTL:P3D
REFRESH-INTERVAL:P3D
CALSCALE:GREGORIAN
BEGIN:VEVENT
DTSTART:20221009T210000Z
DTEND:20221009T230000Z
X-MICROSOFT-CDO-ALLDAYEVENT:FALSE
SUMMARY:EUROPA GALANTE WITH FABIO BIONDI
DESCRIPTION:Led by world-renowned violinist Fabio Biondi\, the highly acclaimed Europa Galante\, known for their electrifying performances\, present a program of concerti and sonata works by J.S. Bach and Vivaldi.
X-ALT-DESC;FMTTYPE=text/html:<span style="color:rgb(0\, 0\, 0)\; font-family:open sans\,arial\,helvetica\,sans-serif\; font-size:15px">Led by world-renowned violinist Fabio Biondi\, the highly acclaimed Europa Galante\, known for their electrifying performances\, present a program of concerti and sonata works by J.S. Bach and Vivaldi.</span>
LOCATION:37 Main Street\, Rockport MA\, 01966
UID:e.2981.22938
SEQUENCE:3
DTSTAMP:20260424T123646Z
URL:https://business.capeannchamber.com/events/details/europa-galante-with-fabio-biondi-22938
END:VEVENT

END:VCALENDAR
