BEGIN:VCALENDAR
VERSION:2.0
PRODID:-//ChamberMaster//Event Calendar 2.0//EN
METHOD:PUBLISH
X-PUBLISHED-TTL:P3D
REFRESH-INTERVAL:P3D
CALSCALE:GREGORIAN
BEGIN:VEVENT
DTSTART:20241210T220000Z
DTEND:20241211T000000Z
X-MICROSOFT-CDO-ALLDAYEVENT:FALSE
SUMMARY:Essex Holiday Party 2024
DESCRIPTION:Essex Holiday Reception:\n\nJoin the Essex Division of the Cape Ann Chamber of Commerce for the Annual Holiday Party at Vita Bella Ristorante (First Floor). All businesses (Members & Non-Members) in the Essex Division are invited to attend. Appetizers and a cash bar will be offered.\n\n\n\nAwards will also be presented to the 2024 Winners of the ClamFest Chowder Competition:\n\nFirst Place Judges' Award- Woodman's of Essex \n\nFirst Place Peoples' Award- Castle Manor Inn
X-ALT-DESC;FMTTYPE=text/html:<strong>Essex Holiday Reception:</strong><br />\nJoin the Essex Division of the Cape Ann Chamber of Commerce for the Annual Holiday Party at Vita Bella Ristorante (First Floor). All businesses (Members &amp\; Non-Members) in the Essex Division are invited to attend. Appetizers and a cash bar will be offered.<br />\n<br />\n<strong>Awards will also be presented to the 2024 Winners of the ClamFest Chowder Competition:</strong><br />\nFirst Place Judges&#39\; Award- Woodman&#39\;s of Essex&nbsp\;<br />\nFirst Place Peoples&#39\; Award- Castle Manor Inn
LOCATION:Vita Bella Ristorante
UID:e.2981.34164
SEQUENCE:3
DTSTAMP:20260424T124058Z
URL:https://business.capeannchamber.com/events/details/essex-holiday-party-2024-34164
END:VEVENT

END:VCALENDAR
