BEGIN:VCALENDAR
VERSION:2.0
PRODID:-//ChamberMaster//Event Calendar 2.0//EN
METHOD:PUBLISH
X-PUBLISHED-TTL:P3D
REFRESH-INTERVAL:P3D
CALSCALE:GREGORIAN
BEGIN:VEVENT
DTSTART:20260324T223000Z
DTEND:20260325T000000Z
X-MICROSOFT-CDO-ALLDAYEVENT:FALSE
SUMMARY:Essex Downtown Visioning Forum
DESCRIPTION:Postponed - Stay tuned for new date\n\n\n\nDowntown Essex Visioning Forum\n\nBe a part of the conversation.\n\n\n\nResidents\, business owners\, and community stakeholders are invited to take part in a Downtown Visioning Forum focused on the future of downtown Essex.  The forum\, organized by the Greater Cape Ann Chamber of Commerce in partnership with the Town of Essex\, will provide an opportunity for the community to share ideas and help guide priorities for a vibrant and resilient downtown.\n\n\n\nThe goal of the forum is to gather input from residents and the business community to help identify opportunities that support a thriving downtown while aligning town planning efforts with the needs of local businesses. Participants will be encouraged to share ideas and perspectives that can help shape strategies for strengthening Essex's downtown district.
X-ALT-DESC;FMTTYPE=text/html:<span style="font-size:22px\;"><span style="color:#FF0000\;">Postponed - Stay tuned for new date</span></span><br />\n<br />\n<span style="font-size:16px\;"><strong>Downtown Essex Visioning Forum<br />\nBe a part of the conversation.</strong></span><br />\n<br />\nResidents\, business owners\, and community stakeholders are invited to take part in a <strong data-end="247" data-start="219">Downtown Visioning Forum</strong> focused on the future of downtown Essex.&nbsp\;&nbsp\;The forum\, organized by the <strong data-end="358" data-start="317">Greater Cape Ann Chamber of Commerce</strong> in partnership with the <strong data-end="424" data-start="383">Town of Essex</strong>\, will provide an opportunity for the community to share ideas and help guide priorities for a vibrant and resilient downtown.<br />\n<br />\nThe goal of the forum is to gather input from residents and the business community to help identify opportunities that support a thriving downtown while aligning town planning efforts with the needs of local businesses. Participants will be encouraged to share ideas and perspectives that can help shape strategies for strengthening Essex&rsquo\;s downtown district.<br />\n&nbsp\;
LOCATION:Essex Town Hall 3rd Floor Auditorium 30 Martin St Essex MA
UID:e.2981.46424
SEQUENCE:3
DTSTAMP:20260425T114032Z
URL:https://business.capeannchamber.com/events/details/essex-downtown-visioning-forum-46424
END:VEVENT

END:VCALENDAR
