BEGIN:VCALENDAR
VERSION:2.0
PRODID:-//ChamberMaster//Event Calendar 2.0//EN
METHOD:PUBLISH
X-PUBLISHED-TTL:P3D
REFRESH-INTERVAL:P3D
CALSCALE:GREGORIAN
BEGIN:VEVENT
DTSTART:20250906T180000Z
DTEND:20250906T230000Z
X-MICROSOFT-CDO-ALLDAYEVENT:FALSE
SUMMARY:Essex Arts & Culture Fest
DESCRIPTION:Music\, Art\, Food\, Shopping\, Farm Animals\, Kid's Fun & More!\n\n\n\nJoin us Saturday\, September 6 from 2-7pm at Essex Shipbuilding Museum Shipyard for the Second Annual Essex River Cultural District Festival!\n\n\n\nThis year is bigger and better:\n\n	More local vendors and artisans\n	Bounce house for the kids\n	Touch-a-Truck with Essex Fire Department\n	Delicious Food from Woodman's on Wheels\n	Music\, Community\, and fun for the whole family\n\nWe're celebrating everything we love about the Essex River Cultural District - our arts\, heritage\, food\, and community spirit.\n\n\n\nCome for the fun\, stay for the culture.\n\n\n\nSupported by the Essex River Cultural District through Massachusetts Cultural Council's Cultural District Initiative\, and our incredible local partners.
X-ALT-DESC;FMTTYPE=text/html:<span style="font-size:20px\;"><span style="color:#0000CD\;"><strong>Music\, Art\, Food\, Shopping\, Farm Animals\, Kid&#39\;s Fun &amp\; More!</strong></span></span><br />\n<br />\n<span style="font-size:14px\;">Join us <strong>Saturday\, September 6 from 2-7pm</strong> at <strong>Essex Shipbuilding Museum Shipyard</strong> for the <strong>Second Annual Essex River Cultural District Festival!</strong><br />\n<br />\nThis year is bigger and better:</span>\n<ul>\n	<li><strong><span style="font-size:14px\;">More local vendors and artisans</span></strong></li>\n	<li><span style="font-size:14px\;"><strong>Bounce house</strong> for the kids</span></li>\n	<li><span style="font-size:14px\;"><strong>Touch-a-Truck</strong> with Essex Fire Department</span></li>\n	<li><span style="font-size:14px\;">Delicious Food from <strong>Woodman&#39\;s on Wheels</strong></span></li>\n	<li><span style="font-size:14px\;">Music\, Community\, and fun for the whole family</span></li>\n</ul>\n<span style="font-size:14px\;">We&#39\;re celebrating everything we love about the <strong>Essex River Cultural District</strong> - our arts\, heritage\, food\, and community spirit.<br />\n<br />\n<span style="color:#0000CD\;"><strong>Come for the fun\, stay for the culture.</strong></span><br />\n<br />\n<span style="font-size:16px\;"><strong>Supported by the Essex River Cultural District through Massachusetts Cultural Council&#39\;s Cultural District Initiative\, and our incredible local partners.</strong></span></span><br />\n<br />\n&nbsp\;
LOCATION:Essex Shipbuilding Museum Shipyard
UID:e.2981.43122
SEQUENCE:3
DTSTAMP:20260422T134954Z
URL:https://business.capeannchamber.com/events/details/essex-arts-culture-fest-43122
END:VEVENT

END:VCALENDAR
