BEGIN:VCALENDAR
VERSION:2.0
PRODID:-//ChamberMaster//Event Calendar 2.0//EN
METHOD:PUBLISH
X-PUBLISHED-TTL:P3D
REFRESH-INTERVAL:P3D
CALSCALE:GREGORIAN
BEGIN:VEVENT
DTSTART:20250810T230000Z
DTEND:20250811T010000Z
X-MICROSOFT-CDO-ALLDAYEVENT:FALSE
SUMMARY:Esperanza Spalding
DESCRIPTION:Born in 1984 in Portland\, Oregon\, esperanza spalding is an eaabibacliitoti* artist\, trained and initiated in the North American (masculine) jazz lineage and tradition. Her work interweaves through various combinations of instrumental music\, bass playing\, improvisation\, singing\, composition\, poetry\, dance\, therapeutic research\, storytelling\, teaching\, regenerative agriculture\, urban land & artist-sanctuary custodianship\, and growing in love as a daughter\, sister\, cousin\, niece\, auntie\, great-auntie\, friend\, while collaboratively decolonizing within and through her hometown community.
X-ALT-DESC;FMTTYPE=text/html:<p><span style="color:rgb(0\, 0\, 0)\; font-family:open sans\,arial\,helvetica\,sans-serif\; font-size:16px">Born in 1984 in Portland\, Oregon\, esperanza spalding is an&nbsp\;</span><em>eaabibacliitoti*</em><span style="color:rgb(0\, 0\, 0)\; font-family:open sans\,arial\,helvetica\,sans-serif\; font-size:16px">&nbsp\;artist\, trained and initiated in the North American (masculine) jazz lineage and tradition. Her work interweaves through various combinations of instrumental music\, bass playing\, improvisation\, singing\, composition\, poetry\, dance\, therapeutic research\, storytelling\, teaching\, regenerative agriculture\, urban land &amp\; artist-sanctuary custodianship\, and growing in love as a daughter\, sister\, cousin\, niece\, auntie\, great-auntie\, friend\, while collaboratively decolonizing within and through her hometown community.</span></p>\n
LOCATION:37 Main St\, Rockport\, MA 01966
UID:e.2981.36768
SEQUENCE:3
DTSTAMP:20260424T234941Z
URL:https://business.capeannchamber.com/events/details/esperanza-spalding-36768
END:VEVENT

END:VCALENDAR
