BEGIN:VCALENDAR
VERSION:2.0
PRODID:-//ChamberMaster//Event Calendar 2.0//EN
METHOD:PUBLISH
X-PUBLISHED-TTL:P3D
REFRESH-INTERVAL:P3D
CALSCALE:GREGORIAN
BEGIN:VEVENT
DTSTART:20250415T130000Z
DTEND:20250415T193000Z
X-MICROSOFT-CDO-ALLDAYEVENT:FALSE
SUMMARY:Eric Pape: The Fair God at the Hammond Castle Museum
DESCRIPTION:Experience Eric Pape: The Fair God\, an extraordinary fine art exhibit featuring over 50 works by renowned artist and former Cape Ann resident\, Eric Pape (1870   1938). Curated predominantly from the private collection of Dr. Gregory Conn\, the world's leading Pape collector and biographer\, this special exhibition showcases a select group of Pape's 300 illustrations for The Fair God (1898) many unseen since his death in 1938.\n\n\n\nHighlights include:\n\n\n\n- Newly restored chapter initials on loan from the General Lew Wallace Study & Museum in Indiana\n\n- Select works from private collectors\n\n- Four mixed media works by contemporary artist Alberto Romero\, including a keystone portrait of Eric Pape.\n\n\n\nThis exhibition coincides with the release of "Eric Pape: The Fair God\," Dr. Conn's new compilation of Pape's book and magazine illustrations. Signed copies will be available for purchase in the Museum Shop in limited quantities.\n\n\n\nYour admission includes:\n\n\n\n-Admission to Hammond Castle Museum for self-guided tours\n\n-Access to Eric Pape: The Fair God\, fine art exhibit\n\n-Viewing of the three Eric Pape paintings on permanent display\, including his sole surviving mural\, The Wireless Naval Battle of Gloucester Bay.\n\n\n\nAll proceeds will support the ongoing restoration and preservation of the Hammond Castle Museum.\n\n\n\n*The Invention Room and Natalie Room will be closed to the public at this time of this exhibition as we prepare to open our two new temporary exhibits: Spinning Platters with Hammond: Inside the World of Vinyl Records and Hammond's Video tapes\, both of which will open on April 29th.\n\n\n\nThis event is generously sponsored by our friend\, Dr. Gregory Conn.\n\nWe warmly welcome our Exhibition Patron: Mollie Byrnes.
X-ALT-DESC;FMTTYPE=text/html:<div>\n<div>\n<div><span style="color:var(--slds-g-color-neutral-base-10\, var(--lwc-inputStaticColor\,rgb(24\, 24\, 24)))\; font-size:var(--lwc-inputStaticFontSize\,0.875rem)">Experience Eric Pape: The Fair God\, an extraordinary fine art exhibit featuring over 50 works by renowned artist and former Cape Ann resident\, Eric Pape (1870 &ndash\; 1938). Curated predominantly from the private collection of Dr. Gregory Conn\, the world&rsquo\;s leading Pape collector and biographer\, this special exhibition showcases a select group of Pape&rsquo\;s 300 illustrations for The Fair God (1898)&mdash\;many unseen since his death in 1938.<br />\n<br />\nHighlights include:<br />\n<br />\n- Newly restored chapter initials on loan from the General Lew Wallace Study &amp\; Museum in Indiana<br />\n- Select works from private collectors<br />\n- Four mixed media works by contemporary artist Alberto Romero\, including a keystone portrait of Eric Pape.<br />\n<br />\nThis exhibition coincides with the release of &quot\;Eric Pape: The Fair God\,&quot\; Dr. Conn&rsquo\;s new compilation of Pape&rsquo\;s book and magazine illustrations. Signed copies will be available for purchase in the Museum Shop in limited quantities.<br />\n<br />\nYour admission includes:<br />\n<br />\n-Admission to Hammond Castle Museum for self-guided tours<br />\n-Access to Eric Pape: The Fair God\, fine art exhibit<br />\n-Viewing of the three Eric Pape paintings on permanent display\, including his sole surviving mural\, The Wireless Naval Battle of Gloucester Bay.<br />\n<br />\nAll proceeds will support the ongoing restoration and preservation of the Hammond Castle Museum.<br />\n<br />\n*The Invention Room and Natalie Room will be closed to the public at this time of this exhibition as we prepare to open our two new temporary exhibits: Spinning Platters with Hammond: Inside the World of Vinyl Records and Hammond&#39\;s Video tapes\, both of which will open on April 29th.<br />\n<br />\nThis event is generously sponsored by our friend\, Dr. Gregory Conn.<br />\nWe warmly welcome our Exhibition Patron: Mollie Byrnes.&nbsp\;</span></div>\n</div>\n</div>\n\n<div>\n<div>&nbsp\;</div>\n</div>\n
LOCATION:Hammond Castle Museum 80 Hesperus Avenue Gloucester\, MA 01930
UID:e.2981.35133
SEQUENCE:3
DTSTAMP:20260424T152814Z
URL:https://business.capeannchamber.com/events/details/eric-pape-the-fair-god-at-the-fair-god-04-15-2025-35133
END:VEVENT

END:VCALENDAR
