BEGIN:VCALENDAR
VERSION:2.0
PRODID:-//ChamberMaster//Event Calendar 2.0//EN
METHOD:PUBLISH
X-PUBLISHED-TTL:P3D
REFRESH-INTERVAL:P3D
CALSCALE:GREGORIAN
BEGIN:VEVENT
DTSTART:20251028T200000Z
DTEND:20251028T230000Z
X-MICROSOFT-CDO-ALLDAYEVENT:FALSE
SUMMARY:Energy Savings Fair
DESCRIPTION:The City of Gloucester is proud to host our 4th annual...\n\n\n\nEnergy Savings Fair\n\nIf you pay a utility bill this free event is for you!  Resources available for all residents\, homeowners\, renters\, and landlords.\n\n\n\nEvent Highlights:\n\n\n\nConnect with resources like:\n\n	National Grid Discount Program and billing options\n	Incentives from Mass Save Sponsors\n	Action Inc. fuel assistance and Home Energy Assistance (HEAP)\n	Gloucester Community Electricity Aggregation\n	Gloucester Housing Rehab and First Time Home Buyers Program\n\nWhat to bring:\n\nYour most recent National Grid Bill\, MassHealth/Health Insurance\, SSI\, SNAP\, or WIC benefits card or acceptance letter OR proof of income\n\n\n\nFamily Friendly!\n\nFree pizza\, pumpkin painting\, and raffles!  The City's public nurse will have free flu vaccines available!
X-ALT-DESC;FMTTYPE=text/html:<span style="font-size:14px\;">The City of Gloucester is proud to host our 4th annual...</span><br />\n<br />\n<strong><span style="font-size:24px\;"><span style="color:#000080\;">Energy Savings Fair</span></span></strong><br />\nIf you pay a utility bill this free event is for you!&nbsp\; Resources available for all residents\, homeowners\, renters\, and landlords.<br />\n<br />\n<span style="font-size:14px\;"><strong>Event Highlights:</strong></span><br />\n<br />\nConnect with resources like:\n<ul>\n	<li>National Grid Discount Program and billing options</li>\n	<li>Incentives from Mass Save Sponsors</li>\n	<li>Action Inc. fuel assistance and Home Energy Assistance (HEAP)</li>\n	<li>Gloucester Community Electricity Aggregation</li>\n	<li>Gloucester Housing Rehab and First Time Home Buyers Program</li>\n</ul>\n<u>What to bring:</u><br />\nYour most recent National Grid Bill\, MassHealth/Health Insurance\, SSI\, SNAP\, or WIC benefits card or acceptance letter OR proof of income<br />\n<br />\n<u>Family Friendly!</u><br />\nFree pizza\, pumpkin painting\, and raffles!&nbsp\; The City&#39\;s public nurse will have free flu vaccines available!
LOCATION:Rose Baker Senior Center
UID:e.2981.45094
SEQUENCE:3
DTSTAMP:20260425T023339Z
URL:https://business.capeannchamber.com/events/details/energy-savings-fair-45094
END:VEVENT

END:VCALENDAR
